BEGIN:VCALENDAR
VERSION:2.0
PRODID:-//ChamberMaster//Event Calendar 2.0//EN
METHOD:PUBLISH
X-PUBLISHED-TTL:P3D
REFRESH-INTERVAL:P3D
CALSCALE:GREGORIAN
BEGIN:VEVENT
DTSTART;VALUE=DATE:20200514
DTEND;VALUE=DATE:20200517
TRANSP:TRANSPARENT
X-MICROSOFT-CDO-ALLDAYEVENT:TRUE
SUMMARY:POSTPONED - Sauk Prairie Garage SALE Days
DESCRIPTION:Sauk Prairie Garage Sale Days is postponed.
X-ALT-DESC;FMTTYPE=text/html:<span style="color: rgb(29\, 33\, 41)\; font-family: Helvetica\, Arial\, sans-serif\; font-size: 14px\; white-space: pre-wrap\;">Sauk Prairie Garage Sale Days is postponed.</span>
LOCATION:Sauk Prairie
UID:e.1184.23979
SEQUENCE:3
DTSTAMP:20260423T002433Z
URL:http://members.saukprairie.com/events/details/postponed-sauk-prairie-garage-sale-days-23979
END:VEVENT

END:VCALENDAR
