BEGIN:VCALENDAR
VERSION:2.0
PRODID:-//ChamberMaster//Event Calendar 2.0//EN
METHOD:PUBLISH
X-PUBLISHED-TTL:P3D
REFRESH-INTERVAL:P3D
CALSCALE:GREGORIAN
BEGIN:VEVENT
DTSTART:20190507T183000Z
DTEND:20190507T200000Z
X-MICROSOFT-CDO-ALLDAYEVENT:FALSE
SUMMARY:Powerful Tools for Caregivers
DESCRIPTION:Aging and disability resource center presents:\n\nPowerful Tools for Caregivers\n\n\n\n6-Week workshop give you confidence and support to better care for your loved one and yourself!\n\n\n\n6 Consecutive Tuesdays\n\nApril 16th-May 21st from 1:30-3:00pm\n\n\n\nSauk Prairie Community Center\n\n730 Monroe Street\, Sauk City\n\n\n\nContact Marina Wittman at the ADRC to register\n\n608-355-3289\n\nmarina.wittmann@saukcountywi.gov
X-ALT-DESC;FMTTYPE=text/html:Aging and disability resource center presents:<br />\nPowerful Tools for Caregivers<br />\n<br />\n6-Week workshop give you confidence and support to better care for your loved one and yourself!<br />\n<br />\n6 Consecutive Tuesdays<br />\nApril 16th-May 21st from 1:30-3:00pm<br />\n<br />\nSauk Prairie Community Center<br />\n730 Monroe Street\, Sauk City<br />\n<br />\nContact Marina Wittman at the ADRC to register<br />\n608-355-3289<br />\nmarina.wittmann@saukcountywi.gov
LOCATION:Sauk Prairie Community Center 730 Monroe Street\, Sauk City
UID:e.1184.22134
SEQUENCE:3
DTSTAMP:20260423T184427Z
URL:http://members.saukprairie.com/events/details/powerful-tools-for-caregivers-05-07-2019-22134
END:VEVENT

END:VCALENDAR
