BEGIN:VCALENDAR
VERSION:2.0
PRODID:-//ChamberMaster//Event Calendar 2.0//EN
METHOD:PUBLISH
X-PUBLISHED-TTL:P3D
REFRESH-INTERVAL:P3D
CALSCALE:GREGORIAN
BEGIN:VEVENT
DTSTART:20231009T230000Z
DTEND:20231010T010000Z
X-MICROSOFT-CDO-ALLDAYEVENT:FALSE
SUMMARY:Prairie du Sac Fire Department Open House
DESCRIPTION:Join the Prairie du Sac Fire Department for their Open House!\n\n\n\nCooking Safety starts with YOU.\n\n\n\nPay attention to fire prevention.\n\n	Fire Truck Rides\n	Hands-on Activities\n	Food Trucks\n	Demonstrations\, and more!\n\nFor more information\, visit our Facebook page.
X-ALT-DESC;FMTTYPE=text/html:Join the Prairie du Sac Fire Department for their Open House!<br />\n<br />\nCooking Safety starts with YOU.<br />\n<br />\nPay attention to fire prevention.\n<ul>\n	<li>Fire Truck Rides</li>\n	<li>Hands-on Activities</li>\n	<li>Food Trucks</li>\n	<li>Demonstrations\, and more!</li>\n</ul>\nFor more information\, visit our <a href="https://www.facebook.com/pdsfd">Facebook</a> page.&nbsp\;
LOCATION:855 17th Street Prairie du Sac\, WI 53578
UID:e.1184.31028
SEQUENCE:3
DTSTAMP:20260420T062044Z
URL:http://members.saukprairie.com/events/details/prairie-du-sac-fire-department-open-house-31028
END:VEVENT

END:VCALENDAR
