BEGIN:VCALENDAR
VERSION:2.0
PRODID:-//ChamberMaster//Event Calendar 2.0//EN
METHOD:PUBLISH
X-PUBLISHED-TTL:P3D
REFRESH-INTERVAL:P3D
CALSCALE:GREGORIAN
BEGIN:VEVENT
DTSTART:20240731T210000Z
DTEND:20240801T010000Z
X-MICROSOFT-CDO-ALLDAYEVENT:FALSE
SUMMARY:Prairie du Sac Fire Department Share Night
DESCRIPTION:Established October 3rd\, 1891\, the Prairie du Sac Volunteer Fire Department is staffed entirely by on-call volunteers. Their response area includes the Village of Prairie du Sac and extends to neighboring comminutes.\n\n \n\nVisit Culver's of Sauk City on Wednesday\, July 31st\, from 4pm-8pm to help raise money for the Prairie du Sac Fire Department.\n\n \n\nYou may place orders online\, to-go\, call ins\, drive thru\, and dining will be available.\n\n10% of sales will be donated to the Prairie du Sac Fire Department.
X-ALT-DESC;FMTTYPE=text/html:<div color:="" font-size:="" segoe="" ui="">Established October 3rd\, 1891\, the Prairie du Sac Volunteer Fire Department is staffed entirely by on-call volunteers. Their response area includes the Village of Prairie du Sac and extends to neighboring comminutes.<br />\n&nbsp\;</div>\n\n<div color:="" font-size:="" segoe="" ui="">Visit Culver&#39\;s of Sauk City on Wednesday\, July 31st\, from 4pm-8pm to help raise money for the Prairie du Sac Fire Department.<br />\n&nbsp\;</div>\n\n<div color:="" font-size:="" segoe="" ui="">You may place orders online\, to-go\, call ins\, drive thru\, and dining will be available.<br />\n10% of sales will be donated to the Prairie du Sac Fire Department.</div>\n
LOCATION:Culver's of Sauk City
UID:e.1184.32869
SEQUENCE:3
DTSTAMP:20260419T175351Z
URL:http://members.saukprairie.com/events/details/prairie-du-sac-fire-department-share-night-32869
END:VEVENT

END:VCALENDAR
