BEGIN:VCALENDAR
VERSION:2.0
PRODID:-//ChamberMaster//Event Calendar 2.0//EN
METHOD:PUBLISH
X-PUBLISHED-TTL:P3D
REFRESH-INTERVAL:P3D
CALSCALE:GREGORIAN
BEGIN:VEVENT
DTSTART:20240802T220000Z
DTEND:20240803T020000Z
X-MICROSOFT-CDO-ALLDAYEVENT:FALSE
SUMMARY:Prairie du Sac Night Market: Featuring Elizabeth Mary Band
DESCRIPTION:Prairie du Sac Night Market\n\n\n	Hosted by River Arts Inc. with support from the Village of Prairie du Sac\, Ruth Culver Community Library\, and Friends of the Sauk Prairie Parks and Recreation.\n\n\nWhat's a Night market?\n\n\n	Night markets are open air street markets featuring live music\, arts and crafts vendors\, food trucks\, and other activities designed to drive traffic to downtowns or underutilized spaces and support businesses and community well-being.
X-ALT-DESC;FMTTYPE=text/html:<h2>Prairie du Sac Night Market</h2>\n\n<ul>\n	<li>Hosted by River Arts Inc. with support from the Village of Prairie du Sac\, Ruth Culver Community Library\, and Friends of the Sauk Prairie Parks and Recreation.</li>\n</ul>\n\n<p><strong>What&rsquo\;s a Night market?</strong></p>\n\n<ul>\n	<li>Night markets are open air street markets featuring live music\, arts and crafts vendors\, food trucks\, and other activities designed to drive traffic to downtowns or underutilized spaces and support businesses and community well-being.</li>\n</ul>\n
LOCATION:Location: At the Riverwalk Park and Overlook Amphitheater (near Ruth Culver Community Library) 490 Water St\, Prairie Du Sac\, WI 53578
UID:e.1184.32852
SEQUENCE:3
DTSTAMP:20260419T163919Z
URL:http://members.saukprairie.com/events/details/prairie-du-sac-night-market-featuring-elizabeth-mary-band-08-02-2024-32852
END:VEVENT

END:VCALENDAR
