BEGIN:VCALENDAR
VERSION:2.0
PRODID:-//ChamberMaster//Event Calendar 2.0//EN
METHOD:PUBLISH
X-PUBLISHED-TTL:P3D
REFRESH-INTERVAL:P3D
CALSCALE:GREGORIAN
BEGIN:VEVENT
DTSTART:20221014T220000Z
DTEND:20221015T020000Z
X-MICROSOFT-CDO-ALLDAYEVENT:FALSE
SUMMARY:Prairie du Sac Night Market: Featuring Mike Droho
DESCRIPTION:River Arts Inc. is thrilled to bring a new experience to downtown Prairie du Sac Night Markets!eaturing live music\, arts and crafts vendors\, food trucks\, and other activities designed to drive traffic to downtowns or underutilized spaces and support businesses and community well-being.\n\n\n\n*no food or beverage carry-ins\n\n\n\n*Must show ID to purchase alcohol\n\n\n\n*family-friendly\n\n\n\n*No pets allowed in event area\n\n\n\n*Restrooms available at the Ruth Culver Community Library and Jaybird Cafe & Spirits\n\n\n\n*Some bench and picnic table seating is available. Visitors may also bring blankets or their own chairs
X-ALT-DESC;FMTTYPE=text/html:River Arts Inc. is thrilled to bring a new experience to downtown Prairie du Sac&hellip\;Night Markets!eaturing live music\, arts and crafts vendors\, food trucks\, and other activities designed to drive traffic to downtowns or underutilized spaces and support businesses and community well-being.<br />\n<br />\n*no food or beverage carry-ins<br />\n<br />\n*Must show ID to purchase alcohol<br />\n<br />\n*family-friendly<br />\n<br />\n*No pets allowed in event area<br />\n<br />\n*Restrooms available at the Ruth Culver Community Library and Jaybird Cafe &amp\; Spirits<br />\n<br />\n*Some bench and picnic table seating is available. Visitors may also bring blankets or their own chairs
LOCATION:
UID:e.1184.28201
SEQUENCE:3
DTSTAMP:20260421T033557Z
URL:http://members.saukprairie.com/events/details/prairie-du-sac-night-market-featuring-mike-droho-28201
END:VEVENT

END:VCALENDAR
