BEGIN:VCALENDAR
VERSION:2.0
PRODID:-//ChamberMaster//Event Calendar 2.0//EN
METHOD:PUBLISH
X-PUBLISHED-TTL:P3D
REFRESH-INTERVAL:P3D
CALSCALE:GREGORIAN
BEGIN:VEVENT
DTSTART:20221014T220000Z
DTEND:20221015T020000Z
X-MICROSOFT-CDO-ALLDAYEVENT:FALSE
SUMMARY:Prairie du Sac Night Market: October
DESCRIPTION:Prairie du Sac Night Market\n\nHosted by River Arts Inc.\n\nDates:\n\nFriday\, June 17th 5pm-9pm\n\nFriday\, August 19th 5pm-9pm\n\nFriday\, October 14th 5pm-9pm\n\nLocation:\nAt the Riverwalk Park and Overlook Amphitheater (near Ruth Culver Community Library) 490 Water St\, Prairie Du Sac\, WI 53578\n\n \n\nCost:\n\nFree to attend\n\n\nRiver Arts Inc. is thrilled to bring a new experience to downtown Prairie du Sac Night Markets!\n\nNight markets are open air street markets featuring live music\, arts and crafts vendors\, food trucks\, and other activities designed to drive traffic to downtowns or underutilized spaces and support businesses and community well-being.\n\n*no food or beverage carry-ins\n\n*Must show ID to purchase alcohol\n\n*family-friendly\n\n*No pets allowed in event area\n\n*Restrooms available at the Ruth Culver Community Library
X-ALT-DESC;FMTTYPE=text/html:<p><strong>Prairie du Sac Night Market</strong></p>\n\n<p>Hosted by River Arts Inc.</p>\n\n<p><strong>Dates:</strong></p>\n\n<p>Friday\, June 17th 5pm-9pm</p>\n\n<p>Friday\, August 19th 5pm-9pm</p>\n\n<p>Friday\, October 14th 5pm-9pm</p>\n\n<p><strong>Location:</strong></p>\nAt the Riverwalk Park and Overlook Amphitheater (near Ruth Culver Community Library) 490 Water St\, Prairie Du Sac\, WI 53578\n\n<p>&nbsp\;</p>\n\n<p><strong>Cost:</strong></p>\n\n<p>Free to attend</p>\n\n<hr />\n<p>River Arts Inc. is thrilled to bring a new experience to downtown Prairie du Sac&hellip\;Night Markets!</p>\n\n<p>Night markets are open air street markets featuring live music\, arts and crafts vendors\, food trucks\, and other activities designed to drive traffic to downtowns or underutilized spaces and support businesses and community well-being.</p>\n\n<p><em>*no food or beverage carry-ins</em></p>\n\n<p><em>*Must show ID to purchase alcohol</em></p>\n\n<p><em>*family-friendly</em></p>\n\n<p><em>*No pets allowed in event area</em></p>\n\n<p><em>*Restrooms available at the Ruth Culver Community Library</em></p>\n
LOCATION:At the Riverwalk Park and Overlook Amphitheater (near Ruth Culver Community Library) 490 Water St\, Prairie Du Sac\, WI 53578
UID:e.1184.27655
SEQUENCE:3
DTSTAMP:20260421T033258Z
URL:http://members.saukprairie.com/events/details/prairie-du-sac-night-market-october-27655
END:VEVENT

END:VCALENDAR
