BEGIN:VCALENDAR
VERSION:2.0
PRODID:-//ChamberMaster//Event Calendar 2.0//EN
METHOD:PUBLISH
X-PUBLISHED-TTL:P3D
REFRESH-INTERVAL:P3D
CALSCALE:GREGORIAN
BEGIN:VEVENT
DTSTART:20190316T120000Z
DTEND:20190316T170000Z
X-MICROSOFT-CDO-ALLDAYEVENT:FALSE
SUMMARY:Prairie Fire Yoga's 4th Anniversary Celebration!
DESCRIPTION:It's our 4thAnniversary Celebration!\n\nFriday\, March 15th  6 pm -7:30 pm and Saturday\, March 16th 7 am -12 pm\n\n\n\nWe will be celebrating with gelato from The Blue Spoon\, retail specials\, free classes\, and a class package sale of 4 classes for just $44! (Class packages will be available in-studio only\, 1 per person)\n\n\n\nFriday\, 3/15\n\n6:00-7:30 pm: Donation-based Shoulder Opener Class with Brian\n\n(Proceeds going to BikeMS fundraiser.)\n\n \n\n \n\nSaturday\, 3/16\n\n7:00-8:15 am: FREE Prairie Fire Flow with Mike\n\n9:00-10:00 am: FREE Power Flow with Brian\n\n\n\n10:30 am-12:00 pm: FREE Sample Session (Featuring 20 minutes each of\n\nPrairie Fire Flow\, Power Flow\, Tone\, and Slow Flow)\n\n\n\n4:00-4:45 pm: empowered with Brian CANCELED\n\n\n\n6:00-7:15 pm INtuitive Flow Workshop with Anna Mae \n\n(Members: $20 Non-Members: $25)\n\n\n\nCome celebrate with us!\n\n \n\nWe are grateful for the support of the Sauk Prairie Community\, \n\nour fellow yogi's\, friends and family.
X-ALT-DESC;FMTTYPE=text/html:<div>&nbsp\;</div>\n\n<div style="text-align:center"><span style="font-size:18px"><span style="color:#ed7d31">It&#39\;s our 4<sup>th</sup>Anniversary Celebration!</span></span></div>\n\n<div style="text-align:center"><span style="color:rgb(192\, 0\, 0)">Friday\, March 15th &nbsp\;6 pm -7:30 pm and Saturday\, March 16th&nbsp\;7 am -12 pm</span></div>\n\n<div style="text-align:center"><br />\n<span style="font-size:14px"><span style="background-color:#fafafa"><span style="font-family:helvetica">We will be celebrating with gelato from The Blue Spoon\, retail specials\, free classes\, and a class package sale of&nbsp\;</span></span><strong><span style="font-family:helvetica">4 classes for just $44!&nbsp\;</span></strong><span style="background-color:#fafafa"><span style="font-family:helvetica"><span style="font-size:16px"><span style="font-size:14px">(Class packages will be available in-studio only\, 1 per person)</span></span></span></span></span><br />\n<br />\n<span style="font-size:16px"><strong><u><span style="background-color:#fafafa"><span style="color:#c00000"><span style="font-family:calibri light">Friday\, 3/15</span></span></span></u></strong></span></div>\n\n<div style="text-align:center"><span style="font-size:14px"><span style="background-color:#fafafa"><span style="font-family:helvetica">6:00-7:30 pm: Donation-based Shoulder Opener Class with Brian<br />\n(Proceeds going to BikeMS fundraiser.)</span></span></span><br />\n&nbsp\;</div>\n\n<div style="text-align:center">&nbsp\;<br />\n<span style="font-size:14px"><span style="font-size:16px"><strong><u><span style="background-color:#fafafa"><span style="color:#c00000"><span style="font-family:calibri light">Saturday\, 3/16</span></span></span></u></strong></span></span><br />\n<span style="font-size:14px"><span style="background-color:#fafafa"><span style="font-family:helvetica">7:00-8:15 am: FREE Prairie Fire Flow with Mike</span></span><br />\n<span style="background-color:#fafafa"><span style="font-family:helvetica">9:00-10:00 am: FREE Power Flow with Brian</span></span><br />\n<br />\n<span style="background-color:#fafafa"><span style="font-family:helvetica">10:30 am-12:00 pm: FREE Sample Session (Featuring 20 minutes each of<br />\nPrairie Fire Flow\, Power Flow\, Tone\, and Slow Flow)</span></span><br />\n<br />\n<span style="background-color:#fafafa"><span style="font-family:helvetica">4:00-4:45 pm: empowered with Brian CANCELED</span></span><br />\n<br />\n<span style="background-color:#fafafa"><span style="font-family:helvetica">6:00-7:15 pm INtuitive Flow Workshop with Anna Mae&nbsp\;</span></span><br />\n<span style="background-color:#fafafa"><span style="font-family:helvetica">(Members: $20 Non-Members: $25)</span></span><br />\n<br />\n<strong><span style="font-size:16px">Come celebrate with us!</span></strong></span><br />\n&nbsp\;</div>\n\n<div style="text-align:center"><span style="font-size:14px"><strong><em>We are grateful for the support of the Sauk Prairie Community\, </em></strong></span></div>\n\n<div style="text-align:center"><span style="font-size:14px"><strong><em>our fellow yogi&#39\;s\, friends and family.</em></strong></span></div>\n
LOCATION:Prairie Fire Yoga 560 Park Ave Prairie du Sac\, WI 53578
UID:e.1184.22101
SEQUENCE:3
DTSTAMP:20260423T201719Z
URL:http://members.saukprairie.com/events/details/prairie-fire-yoga-s-4th-anniversary-celebration-22101
END:VEVENT

END:VCALENDAR
