BEGIN:VCALENDAR
VERSION:2.0
PRODID:-//ChamberMaster//Event Calendar 2.0//EN
METHOD:PUBLISH
X-PUBLISHED-TTL:P3D
REFRESH-INTERVAL:P3D
CALSCALE:GREGORIAN
BEGIN:VEVENT
DTSTART:20240217T160000Z
DTEND:20240217T180000Z
X-MICROSOFT-CDO-ALLDAYEVENT:FALSE
SUMMARY:Prairie Puppy Yoga!
DESCRIPTION:Prairie Puppy Yoga @ Prairie Fire Yoga and Wellness\n\nSaturday\, February 17\, 2024 10am to 12pm\n\n\n\nPuppy yoga class from 1030 to 1130! if you're not much of a yoga fan well be there at 10 am and hang out until noon if you're in area.\n\n \n\nWe'll post puppies shortly before event that will be present!
X-ALT-DESC;FMTTYPE=text/html:<div class="xdj266r x11i5rnm xat24cr x1mh8g0r x1vvkbs" color:="" font-size:="" segoe="" style="margin: 0px\; overflow-wrap: break-word\; font-family: " ui="">Prairie Puppy Yoga @ Prairie Fire Yoga and Wellness<br />\nSaturday\, February 17\, 2024 10am to 12pm<br />\n<br />\nPuppy yoga class from 1030 to 1130! if you&#39\;re not much of a yoga fan well be there at 10 am and hang out until noon if you&#39\;re in area.<br />\n&nbsp\;</div>\n\n<div class="x11i5rnm xat24cr x1mh8g0r x1vvkbs xtlvy1s" color:="" font-size:="" segoe="" style="margin: 0.5em 0px 0px\; overflow-wrap: break-word\; font-family: " ui="">We&#39\;ll post puppies shortly before event that will be present!</div>\n
LOCATION:Prairie Fire Yoga and Wellness
UID:e.1184.31545
SEQUENCE:3
DTSTAMP:20260420T003555Z
URL:http://members.saukprairie.com/events/details/prairie-puppy-yoga-31545
END:VEVENT

END:VCALENDAR
