BEGIN:VCALENDAR
VERSION:2.0
PRODID:-//ChamberMaster//Event Calendar 2.0//EN
METHOD:PUBLISH
X-PUBLISHED-TTL:P3D
REFRESH-INTERVAL:P3D
CALSCALE:GREGORIAN
BEGIN:VEVENT
DTSTART;VALUE=DATE:20181222
DTEND;VALUE=DATE:20181223
TRANSP:TRANSPARENT
X-MICROSOFT-CDO-ALLDAYEVENT:TRUE
SUMMARY:Pre-Holiday Party & Ugly Sweater Contest
DESCRIPTION:Hi! DJ Susie Here...We will be hosting a Pre-Holiday party at the Village Pub in Sauk City on Saturday! I will be DJ'ing and running Karaoke along with an Ugly Sweater Contest and some Holiday Movie Trivia and Music Trivia for free rail drinks/shots! I will also have some fun holiday items for you! Also if you know Lori from Bar Buddies\, we will be celebrating her birthday!! Please stop by as we dive into the holiday season! Come take a little break! Hope to see you!
X-ALT-DESC;FMTTYPE=text/html:<span style="color: rgb(29\, 33\, 41)\; font-family: Helvetica\, Arial\, sans-serif\; font-size: 14px\;">Hi! DJ Susie Here...We will be hosting a Pre-Holiday party at the Village Pub in Sauk City on Saturday! I will be DJ&#39\;ing and running Karaoke along with an Ugly Sweater Contest and some Holiday Movie Trivia and Music Trivia for free rail drinks/shots! I will also have some fun holiday items for you! Also if you know Lori from Bar Buddies\, we will be celebrating her birthday!! Please stop by as we dive into the holiday season! Come take a little break! Hope to see you!</span>
LOCATION:Village Pub 101 Jackson St.\, Sauk City
UID:e.1184.21630
SEQUENCE:3
DTSTAMP:20260424T004307Z
URL:http://members.saukprairie.com/events/details/pre-holiday-party-ugly-sweater-contest-21630
END:VEVENT

END:VCALENDAR
