BEGIN:VCALENDAR
VERSION:2.0
PRODID:-//ChamberMaster//Event Calendar 2.0//EN
METHOD:PUBLISH
X-PUBLISHED-TTL:P3D
REFRESH-INTERVAL:P3D
CALSCALE:GREGORIAN
BEGIN:VEVENT
DTSTART;VALUE=DATE:20230623
DTEND;VALUE=DATE:20230625
TRANSP:TRANSPARENT
X-MICROSOFT-CDO-ALLDAYEVENT:TRUE
SUMMARY:Prem Meats Anniversary Sale!
DESCRIPTION:Join Prem Meats for their Anniversary Sale!\n\n\n\nSign up to win a Traeger Grill\, Meat Bundles\, Gift Cards and more!\n\n\n\nQ106 Live Remote Broadcast starting at Noon on Saturday!\n\n\n\nFREE BRATS & HOT DOGS on Saturday from 11 am - 2 pm!\n\n\n\nEnjoy two days of Anniversary Specials!!!
X-ALT-DESC;FMTTYPE=text/html:Join Prem Meats for their Anniversary Sale!<br />\n<br />\nSign up to win a Traeger Grill\, Meat Bundles\, Gift Cards and more!<br />\n<br />\nQ106 Live Remote Broadcast starting at Noon on Saturday!<br />\n<br />\nFREE BRATS &amp\; HOT DOGS on Saturday from 11 am - 2 pm!<br />\n<br />\nEnjoy two days of Anniversary Specials!!!
LOCATION:1940 Prairie Street Prairie du Sac
UID:e.1184.30873
SEQUENCE:3
DTSTAMP:20260420T131959Z
URL:http://members.saukprairie.com/events/details/prem-meats-anniversary-sale-30873
END:VEVENT

END:VCALENDAR
