BEGIN:VCALENDAR
VERSION:2.0
PRODID:-//ChamberMaster//Event Calendar 2.0//EN
METHOD:PUBLISH
X-PUBLISHED-TTL:P3D
REFRESH-INTERVAL:P3D
CALSCALE:GREGORIAN
BEGIN:VEVENT
DTSTART;VALUE=DATE:20220624
DTEND;VALUE=DATE:20220626
TRANSP:TRANSPARENT
X-MICROSOFT-CDO-ALLDAYEVENT:TRUE
SUMMARY:Prem Meats Anniversary Sale and Open House
DESCRIPTION:Help Prem Meats celebrate their 1 Year Anniversary! Join us for an open house along with an anniversary sale!\n\n\n\nThere will be drawings for the following items:\n\n        Kayak\n\n\n       Traeger Pro 22 Smoker\n\n       1/4 beef\n\n       1/2 pig\n\n       Grill Bundle\n\n        $100 Gift Card\n\n        $75 Gift Card \n\n        $50 Gift Card\n\n\n\nItems on Sale:\n\n       Top Sirloin Bundles \n\n       10# Chicken Breasts \n\n       10# Chicken Wings party\n\n       10# Chicken Boneless Thighs \n\n       Ground Chuck 1# Tubes \n\n       10# Pork Chops \n\n       10# Mix and Match Ground Pork\, Italian Sausage & Breakfast                 Sausage\n\n       20% Off Select Meat Bundles \n\n       10# Ribeye   \n\n\n\nFree 12in Pizza (choice of cheese\, pepperoni\, or sausage) with every purchase of $75 and above.\n\n\n\nFree Hotdogs\, brats\, and cookies Saturday\, June 25th from 11-3pm\n\n\n\nDrawing winners will be announced Monday\, June 27th!
X-ALT-DESC;FMTTYPE=text/html:<span style="font-size:14px\;"><span style="font-family:arial\;">Help Prem Meats celebrate their 1 Year Anniversary! Join us for an open house along with an anniversary sale!<br />\n<br />\nThere will be drawings for the following items:<br />\n&nbsp\;&nbsp\;&nbsp\;&nbsp\;&nbsp\;&nbsp\;&nbsp\;&nbsp\;Kayak</span></span>\n<p class="gmail-m-2856240582085923144gmail-p2" style="margin:0in"><o:p></o:p></p>\n\n<p class="gmail-m-2856240582085923144gmail-p2" style="margin:0in\;font-variant-numeric:normal\;\nfont-variant-east-asian:normal\;font-stretch:normal"><span style="font-size:14px\;"><span style="font-family:arial\;"><span class="gmail-m-2856240582085923144gmail-apple-tab-span">&nbsp\;&nbsp\;&nbsp\;&nbsp\;&nbsp\;&nbsp\;&nbsp\;</span>Traeger Pro 22 Smoker</span></span><o:p></o:p></p>\n\n<p class="gmail-m-2856240582085923144gmail-p2" style="margin:0in\;font-variant-numeric:normal\;\nfont-variant-east-asian:normal\;font-stretch:normal"><span style="font-size:14px\;"><span style="font-family:arial\;"><span class="gmail-m-2856240582085923144gmail-apple-tab-span">&nbsp\;&nbsp\;&nbsp\;&nbsp\;&nbsp\;&nbsp\;&nbsp\;</span>1/4 beef</span></span><o:p></o:p></p>\n\n<p class="gmail-m-2856240582085923144gmail-p2" style="margin:0in\;font-variant-numeric:normal\;\nfont-variant-east-asian:normal\;font-stretch:normal"><span style="font-size:14px\;"><span style="font-family:arial\;"><span class="gmail-m-2856240582085923144gmail-apple-tab-span">&nbsp\; &nbsp\; &nbsp\; &nbsp\;1</span>/2 pig</span></span><o:p></o:p></p>\n\n<p class="gmail-m-2856240582085923144gmail-p2" style="margin:0in\;font-variant-numeric:normal\;\nfont-variant-east-asian:normal\;font-stretch:normal"><span style="font-size:14px\;"><span style="font-family:arial\;"><span class="gmail-m-2856240582085923144gmail-apple-tab-span">&nbsp\;&nbsp\;&nbsp\;&nbsp\;&nbsp\;&nbsp\;&nbsp\;</span>Grill Bundle</span></span><o:p></o:p></p>\n\n<p class="gmail-m-2856240582085923144gmail-p2" style="margin:0in\;font-variant-numeric:normal\;\nfont-variant-east-asian:normal\;font-stretch:normal"><span style="font-size:14px\;"><span style="font-family:arial\;"><span class="gmail-m-2856240582085923144gmail-apple-tab-span">&nbsp\; &nbsp\; &nbsp\; &nbsp\;&nbsp\;</span>$100 Gift Card</span></span><o:p></o:p></p>\n\n<p class="gmail-m-2856240582085923144gmail-p2" style="margin:0in\;font-variant-numeric:normal\;\nfont-variant-east-asian:normal\;font-stretch:normal"><span style="font-size:14px\;"><span style="font-family:arial\;"><span class="gmail-m-2856240582085923144gmail-apple-tab-span">&nbsp\;&nbsp\;&nbsp\;&nbsp\;&nbsp\;&nbsp\;&nbsp\;&nbsp\;</span>$75 Gift Card<span class="gmail-m-2856240582085923144gmail-apple-converted-space">&nbsp\;</span></span></span><o:p></o:p></p>\n\n<p class="gmail-m-2856240582085923144gmail-p2" style="margin:0in\;font-variant-numeric:normal\;\nfont-variant-east-asian:normal\;font-stretch:normal"><span style="font-size:14px\;"><span style="font-family:arial\;"><span class="gmail-m-2856240582085923144gmail-apple-tab-span">&nbsp\;&nbsp\;&nbsp\;&nbsp\;&nbsp\;&nbsp\;&nbsp\;&nbsp\;</span>$50 Gift Card<br />\n<br />\nItems on Sale:<br />\n&nbsp\;&nbsp\;&nbsp\;&nbsp\;&nbsp\;&nbsp\;&nbsp\;Top Sirloin Bundles<span class="gmail-m-2856240582085923144gmail-apple-converted-space">&nbsp\;</span></span></span><o:p></o:p></p>\n\n<p class="gmail-m-2856240582085923144gmail-p2" style="margin:0in\;font-variant-numeric:normal\;\nfont-variant-east-asian:normal\;font-stretch:normal"><span style="font-size:14px\;"><span style="font-family:arial\;"><span class="gmail-m-2856240582085923144gmail-apple-tab-span">&nbsp\;&nbsp\;&nbsp\;&nbsp\;&nbsp\;&nbsp\;&nbsp\;</span>10# Chicken Breasts<span class="gmail-m-2856240582085923144gmail-apple-converted-space">&nbsp\;</span></span></span><o:p></o:p></p>\n\n<p class="gmail-m-2856240582085923144gmail-p2" style="margin:0in\;font-variant-numeric:normal\;\nfont-variant-east-asian:normal\;font-stretch:normal"><span style="font-size:14px\;"><span style="font-family:arial\;"><span class="gmail-m-2856240582085923144gmail-apple-tab-span">&nbsp\;&nbsp\;&nbsp\;&nbsp\;&nbsp\;&nbsp\;&nbsp\;</span>10# Chicken Wings party</span></span><o:p></o:p></p>\n\n<p class="gmail-m-2856240582085923144gmail-p2" style="margin:0in\;font-variant-numeric:normal\;\nfont-variant-east-asian:normal\;font-stretch:normal"><span style="font-size:14px\;"><span style="font-family:arial\;"><span class="gmail-m-2856240582085923144gmail-apple-tab-span">&nbsp\;&nbsp\;&nbsp\;&nbsp\;&nbsp\;&nbsp\;</span>&nbsp\;10# Chicken Boneless Thighs<span class="gmail-m-2856240582085923144gmail-apple-converted-space">&nbsp\;</span></span></span><o:p></o:p></p>\n\n<p class="gmail-m-2856240582085923144gmail-p2" style="margin:0in\;font-variant-numeric:normal\;\nfont-variant-east-asian:normal\;font-stretch:normal"><span style="font-size:14px\;"><span style="font-family:arial\;"><span class="gmail-m-2856240582085923144gmail-apple-tab-span">&nbsp\;&nbsp\;&nbsp\;&nbsp\;&nbsp\;&nbsp\;&nbsp\;</span>Ground Chuck 1# Tubes<span class="gmail-m-2856240582085923144gmail-apple-converted-space">&nbsp\;</span></span></span><o:p></o:p></p>\n\n<p class="gmail-m-2856240582085923144gmail-p2" style="margin:0in\;font-variant-numeric:normal\;\nfont-variant-east-asian:normal\;font-stretch:normal"><span style="font-size:14px\;"><span style="font-family:arial\;"><span class="gmail-m-2856240582085923144gmail-apple-tab-span">&nbsp\;&nbsp\;&nbsp\;&nbsp\;&nbsp\;&nbsp\;&nbsp\;</span>10# Pork Chops<span class="gmail-m-2856240582085923144gmail-apple-converted-space">&nbsp\;</span></span></span><o:p></o:p></p>\n\n<p class="gmail-m-2856240582085923144gmail-p2" style="margin:0in\;font-variant-numeric:normal\;\nfont-variant-east-asian:normal\;font-stretch:normal"><span style="font-size:14px\;"><span style="font-family:arial\;"><span class="gmail-m-2856240582085923144gmail-apple-tab-span">&nbsp\;&nbsp\;&nbsp\;&nbsp\;&nbsp\;&nbsp\;&nbsp\;</span>10# Mix and Match Ground Pork\, Italian Sausage &amp\;<span class="gmail-m-2856240582085923144gmail-apple-converted-space">&nbsp\;</span>Breakfast &nbsp\;&nbsp\;&nbsp\;&nbsp\;&nbsp\;&nbsp\;&nbsp\;&nbsp\;&nbsp\;&nbsp\;&nbsp\;&nbsp\;&nbsp\;&nbsp\;&nbsp\;&nbsp\;Sausage</span></span><o:p></o:p></p>\n\n<p class="gmail-m-2856240582085923144gmail-p2" style="margin:0in\;font-variant-numeric:normal\;\nfont-variant-east-asian:normal\;font-stretch:normal"><span style="font-size:14px\;"><span style="font-family:arial\;"><span class="gmail-m-2856240582085923144gmail-apple-tab-span">&nbsp\;&nbsp\;&nbsp\;&nbsp\;&nbsp\;&nbsp\;&nbsp\;</span>20% Off <span class="gmail-m-2856240582085923144gmail-s1">Select</span> Meat Bundles<span class="gmail-m-2856240582085923144gmail-apple-converted-space">&nbsp\;</span></span></span><o:p></o:p></p>\n\n<p class="gmail-m-2856240582085923144gmail-p2" style="margin:0in\;font-variant-numeric:normal\;\nfont-variant-east-asian:normal\;font-stretch:normal"><span style="font-size:14px\;"><span style="font-family:arial\;"><span class="gmail-m-2856240582085923144gmail-apple-tab-span">&nbsp\;&nbsp\;&nbsp\;&nbsp\;&nbsp\;&nbsp\;&nbsp\;</span>10# Ribeye<span class="gmail-m-2856240582085923144gmail-apple-tab-span">&nbsp\;&nbsp\;&nbsp\;<br />\n<br />\nFree 12in Pizza (choice of cheese\, pepperoni\, or sausage) with every purchase of $75 and above.<br />\n<br />\nFree Hotdogs\, brats\, and cookies Saturday\, June 25th from 11-3pm<br />\n<br />\nDrawing winners will be announced Monday\, June 27th!</span></span></span><o:p></o:p></p>\n
LOCATION:1940 Prairie St\, Prairie Du Sac\, WI 53578
UID:e.1184.28019
SEQUENCE:3
DTSTAMP:20260421T120949Z
URL:http://members.saukprairie.com/events/details/prem-meats-anniversary-sale-and-open-house-28019
END:VEVENT

END:VCALENDAR
