BEGIN:VCALENDAR
VERSION:2.0
PRODID:-//ChamberMaster//Event Calendar 2.0//EN
METHOD:PUBLISH
X-PUBLISHED-TTL:P3D
REFRESH-INTERVAL:P3D
CALSCALE:GREGORIAN
BEGIN:VEVENT
DTSTART;VALUE=DATE:20210912
DTEND;VALUE=DATE:20210913
TRANSP:TRANSPARENT
X-MICROSOFT-CDO-ALLDAYEVENT:TRUE
SUMMARY:Presenting a food filled afternoon!
DESCRIPTION:1/2 Chicken | Cole Slaw | Potato | Roll | $12 a Plate\n\n\n\nTake & Go!\n\n\n\nBring your family\, friends\, and neighbors
X-ALT-DESC;FMTTYPE=text/html:1/2 Chicken | Cole Slaw | Potato | Roll | $12 a Plate<br />\n<br />\nTake &amp\; Go!<br />\n<br />\nBring your family\, friends\, and neighbors<br />\n&nbsp\;
LOCATION:First United Church of Christ Church Parking Lot 504 Washington Avenue
UID:e.1184.26848
SEQUENCE:3
DTSTAMP:20260421T230952Z
URL:http://members.saukprairie.com/events/details/presenting-a-food-filled-afternoon-26848
END:VEVENT

END:VCALENDAR
