BEGIN:VCALENDAR
VERSION:2.0
PRODID:-//ChamberMaster//Event Calendar 2.0//EN
METHOD:PUBLISH
X-PUBLISHED-TTL:P3D
REFRESH-INTERVAL:P3D
CALSCALE:GREGORIAN
BEGIN:VEVENT
DTSTART:20180531T220000Z
DTEND:20180601T010000Z
X-MICROSOFT-CDO-ALLDAYEVENT:FALSE
SUMMARY:Pretty In Pink Benefit for Courtney Mack
DESCRIPTION:At 26 Years old Courtney was diagnosed with Breast Cancer. She underwent 35 radiation treatments. That began 2 years of multiple surgeries all resulting in complications. They preformed an intense 7 hour surgery and is currently in recovery and unfortunately has more surgeries in the near future.\n\n\n\nThis benefit is open to the public. \n\n\n\nSilent Auctions\, Raffles\, Drink Specials\n\n\n\nAppetizers by Wood BBQ\n\n\n\nAll profits go to Courtney Mack \n\n\n\nTo donate directly visit: https://www.gofundme.com/courtney-mack-medical-fund.
X-ALT-DESC;FMTTYPE=text/html:At 26 Years old Courtney was diagnosed with Breast Cancer. She underwent 35 radiation treatments. That began 2 years of multiple surgeries all resulting in complications. They preformed an intense 7 hour surgery and is currently in recovery and unfortunately has more surgeries in the near future.<br />\n<br />\nThis benefit is open to the public.&nbsp\;<br />\n<br />\nSilent Auctions\, Raffles\, Drink Specials<br />\n<br />\nAppetizers by Wood BBQ<br />\n<br />\nAll profits go to Courtney Mack&nbsp\;<br />\n<br />\nTo donate directly visit:&nbsp\;<a href="https://www.gofundme.com/courtney-mack-medical-fund">https://www.gofundme.com/courtney-mack-medical-fund.&nbsp\;</a>
LOCATION:Wollersheim Distillery
UID:e.1184.18126
SEQUENCE:3
DTSTAMP:20260424T130216Z
URL:http://members.saukprairie.com/events/details/pretty-in-pink-benefit-for-courtney-mack-18126
END:VEVENT

END:VCALENDAR
