BEGIN:VCALENDAR
VERSION:2.0
PRODID:-//ChamberMaster//Event Calendar 2.0//EN
METHOD:PUBLISH
X-PUBLISHED-TTL:P3D
REFRESH-INTERVAL:P3D
CALSCALE:GREGORIAN
BEGIN:VEVENT
DTSTART:20181002T000000Z
DTEND:20181002T010000Z
X-MICROSOFT-CDO-ALLDAYEVENT:FALSE
SUMMARY:Preview Readings of Sweat
DESCRIPTION:Join us at the Ruth Culver Community Library Monday\, October 1 at 7:00 p.m. for preview readings of Sweat\, a production of New York  Public Theater's Mobile Unit coming soon to Sauk.  We will also have guests from the company of American Players Theatre. Sweat by Lynn Nottage is the winner of the 2017 Pulitzer Prize for Drama.  The play is centered on the working class of Reading\, Pennsylvania.
X-ALT-DESC;FMTTYPE=text/html:<span style="background-color:transparent\; color:rgb(62\, 62\, 62)\; font-family:arial\,helvetica\,nimbus sans l\,sans-serif\; font-size:16px">Join us at the Ruth Culver Community Library Monday\, October 1 at 7:00 p.m. for preview readings&nbsp\;of </span><em>Sweat</em><span style="background-color:transparent\; color:rgb(62\, 62\, 62)\; font-family:arial\,helvetica\,nimbus sans l\,sans-serif\; font-size:16px">\, a production of New York&nbsp\;&nbsp\;Public Theater&#39\;s Mobile Unit&nbsp\;coming soon&nbsp\;to Sauk.&nbsp\; We will also have guests from the company of American Players Theatre. </span><span style="background-color:transparent\; color:rgb(62\, 62\, 62)\; font-family:arial\,helvetica\,nimbus sans l\,sans-serif\; font-size:16px"><em>Sweat</em> by Lynn Nottage is the winner of the 2017 Pulitzer Prize for Drama.&nbsp\; The play is centered on the working class of Reading\, Pennsylvania.</span>
LOCATION:Ruth Culver Community Library 540 Water Street\, Prairie du Sac
UID:e.1184.21203
SEQUENCE:3
DTSTAMP:20260424T033820Z
URL:http://members.saukprairie.com/events/details/preview-readings-of-sweat-21203
END:VEVENT

END:VCALENDAR
