BEGIN:VCALENDAR
VERSION:2.0
PRODID:-//ChamberMaster//Event Calendar 2.0//EN
METHOD:PUBLISH
X-PUBLISHED-TTL:P3D
REFRESH-INTERVAL:P3D
CALSCALE:GREGORIAN
BEGIN:VEVENT
DTSTART:20210818T233000Z
DTEND:20210819T003000Z
X-MICROSOFT-CDO-ALLDAYEVENT:FALSE
SUMMARY:Project Recovery
DESCRIPTION:Project Recovery is Wisconsin's crisis counseling program in response to the COVID-19 pandemic. Local community counselors will teach coping and stress management skills to anyone dealing with the anxiety and uncertainty from COVID-19. Registration is required. Call or visit the library to sign up. Masks are required to attend.
X-ALT-DESC;FMTTYPE=text/html:Project Recovery is Wisconsin&rsquo\;s crisis counseling program in response to the COVID-19 pandemic. Local community counselors will teach coping and stress management skills to anyone dealing with the anxiety and uncertainty from COVID-19. Registration is required. Call or visit the library to sign up. Masks are required to attend.
LOCATION:615 Phillips Blvd\, Sauk City\, WI 53583
UID:e.1184.26694
SEQUENCE:3
DTSTAMP:20260422T003146Z
URL:http://members.saukprairie.com/events/details/project-recovery-26694
END:VEVENT

END:VCALENDAR
