BEGIN:VCALENDAR
VERSION:2.0
PRODID:-//ChamberMaster//Event Calendar 2.0//EN
METHOD:PUBLISH
X-PUBLISHED-TTL:P3D
REFRESH-INTERVAL:P3D
CALSCALE:GREGORIAN
BEGIN:VEVENT
DTSTART;VALUE=DATE:20160429
DTEND;VALUE=DATE:20160501
TRANSP:TRANSPARENT
X-MICROSOFT-CDO-ALLDAYEVENT:TRUE
SUMMARY:ProMotions Cellular Grand Reopening!
DESCRIPTION:Our look has changed. \n\nWhat we stand for hasn't.\n\n\n\nPlease join us in celebrating our newly remodeled U.S. Cellular Store!\n\n\n\nWhere you can get the latest technology with first class service from one of our professional authorized sales associates!\n\n	Gift bags for the first 20 guests\n	Door Prizes\n	Register to win LG GPAD Tablet & Gear VR (Virtual Reality Goggles)\n	Meet and talk with reps from SamSung\, iPhone
X-ALT-DESC;FMTTYPE=text/html:<strong>Our look has changed.&nbsp\;<br />\nWhat we stand for hasn&#39\;t.</strong><br />\n<br />\nPlease join us in celebrating our newly remodeled U.S. Cellular Store!<br />\n<br />\nWhere you can get the latest technology with first class service from one of our professional authorized sales associates!\n<ul>\n	<li>Gift bags for the first 20 guests</li>\n	<li>Door Prizes</li>\n	<li>Register to win LG GPAD Tablet &amp\; Gear VR (Virtual Reality Goggles)</li>\n	<li>Meet and talk with reps from SamSung\, iPhone</li>\n</ul>\n
LOCATION:ProMotions Cellular 730 Phillips Blvd.\, Sauk City 643.3356
UID:e.1184.8434
SEQUENCE:3
DTSTAMP:20260426T033558Z
URL:http://members.saukprairie.com/events/details/promotions-cellular-grand-reopening-04-29-2016-8434
END:VEVENT

END:VCALENDAR
