BEGIN:VCALENDAR
VERSION:2.0
PRODID:-//ChamberMaster//Event Calendar 2.0//EN
METHOD:PUBLISH
X-PUBLISHED-TTL:P3D
REFRESH-INTERVAL:P3D
CALSCALE:GREGORIAN
BEGIN:VEVENT
DTSTART:20190413T150000Z
DTEND:20190413T180000Z
X-MICROSOFT-CDO-ALLDAYEVENT:FALSE
SUMMARY:Public DIY Workshop - Home Wreath (AM)
DESCRIPTION:Join HBH for their first Public DIY Workshop at their new space! This 12x48" HOME sign will make your house ready for spring in no time! All signs come with a real boxwood wreath. You will be able to choose your stain and paint colors during the workshop.Registration closes on April 6\, 2019. \n\nDate: April 13\, 2019\n\nLocation: HBH Studio\n\nTime: 10:00am\n\n \n\nSpace is limited!
X-ALT-DESC;FMTTYPE=text/html:<p>Join HBH for their first Public DIY Workshop at their new space! This 12x48&quot\; HOME sign will make your house ready for spring in no time! All signs come with a real boxwood wreath. You will be able to choose your stain and paint colors during the workshop.<strong>Registration closes on April 6\, 2019.&nbsp\;</strong></p>\n\n<p><strong>Date:&nbsp\;</strong>April 13\, 2019</p>\n\n<p><strong>Location:&nbsp\;</strong>HBH Studio</p>\n\n<p><strong>Time:</strong>&nbsp\;10:00am</p>\n\n<p>&nbsp\;</p>\n\n<p>Space is limited!</p>\n
LOCATION:421 Water St Ste 105\, Prairie du Sac\, WI 53578
UID:e.1184.22112
SEQUENCE:3
DTSTAMP:20260423T200226Z
URL:http://members.saukprairie.com/events/details/public-diy-workshop-home-wreath-22112
END:VEVENT

END:VCALENDAR
