BEGIN:VCALENDAR
VERSION:2.0
PRODID:-//ChamberMaster//Event Calendar 2.0//EN
METHOD:PUBLISH
X-PUBLISHED-TTL:P3D
REFRESH-INTERVAL:P3D
CALSCALE:GREGORIAN
BEGIN:VEVENT
DTSTART:20191019T140000Z
DTEND:20191019T170000Z
X-MICROSOFT-CDO-ALLDAYEVENT:FALSE
SUMMARY:PUBLIC TOUR OF THE BADGER LANDS
DESCRIPTION:Join us for a \n\nPUBLIC TOUR OF THE BADGER LANDS\n\n \n\nThe Sauk Prairie Conservation Alliance has planned four bus tours of the former Badger Army Ammunition Plant ("Badger Lands") in 2019.  The first three tours are general property-wide tours\, while the tour on October 19th is focused on the geology of Badger and the Baraboo Hills with DNR geologist Phil Fauble.  Whereas the general tours involve limited walking\, the geology tour will entail some hiking.  \n\n \n\nThe tours\, each conducted by several Alliance tour leaders\, are open to the public.  Note: each tour is limited to 26 participants\, and seating is on a "first come-first served" basis.  Sign up early to reserve your seat!\n\n \n\n2019 Tour Dates\n\n \n\nThursday\, May 30:  5:30pm to 8:00pm\n\n \n\nSaturday\, July 13: 9:00am to 12:00pm\n\n \n\nThursday\, September 26:  5:30pm to 8:00pm\n\n \n\nSaturday\, October 19:  9:00am to 12:00pm    [geology tour with Phil Fauble]\n\n \n\nTours are on a school bus and begin and end at the Badger History Museum at the entrance to Badger on Hwy. 12\, across from the Citgo Station. Each tour will last approximately 2 1/2 hours.  Snacks and refreshments will be provided.  \n\n \n\nTour cost: $15/person for members\, $25/person for non-members (fee includes a one-year guest membership)\n\n \n\nReservations and payment in advance required.  Please visit our website (www.SaukPrairieVision.org) for details and a sign-up sheet.  Sorry\, no refunds if you can't make it on a tour you signed up for.  \n\n \n\nContact Alliance Director Charlie Luthin with questions:  info@saukprairievision.org
X-ALT-DESC;FMTTYPE=text/html:<strong><span style="font-family:tahoma\,sans-serif\;"><span style="font-size:18.0pt\;">Join us for a&hellip\;</span></span></strong><br />\n<strong><span style="font-family:tahoma\,sans-serif\;"><span style="font-size:18.0pt\;">PUBLIC TOUR OF THE BADGER LANDS</span></span></strong><br />\n&nbsp\;<br />\n<span style="font-family:tahoma\,sans-serif\;"><span style="font-size:12.0pt\;">The <strong>Sauk Prairie Conservation Alliance</strong> has planned four bus tours of the former Badger Army Ammunition Plant (&ldquo\;Badger Lands&rdquo\;) in 2019.&nbsp\; The first three tours are general property-wide tours\, while the tour on October 19<sup>th</sup> is focused on the geology of Badger and the Baraboo Hills with DNR geologist Phil Fauble.&nbsp\; Whereas the general tours involve limited walking\, the geology tour will entail some hiking.&nbsp\; </span></span><br />\n&nbsp\;<br />\n<span style="font-family:tahoma\,sans-serif\;"><span style="font-size:12.0pt\;">The tours\, each conducted by several Alliance tour leaders\, are open to the public.&nbsp\; Note: each tour is limited to 26 participants\, and seating is on a &ldquo\;first come-first served&rdquo\; basis.&nbsp\; Sign up early to reserve your seat!</span></span><br />\n&nbsp\;<br />\n<strong><u><span style="font-family:tahoma\,sans-serif\;"><span style="font-size:12.0pt\;">2019 Tour Dates</span></span></u></strong><br />\n&nbsp\;<br />\n<strong><span style="font-family:tahoma\,sans-serif\;"><span style="font-size:12.0pt\;">Thursday\, May 30</span></span></strong><span style="font-family:tahoma\,sans-serif\;"><span style="font-size:12.0pt\;">:&nbsp\; 5:30pm to 8:00pm</span></span><br />\n&nbsp\;<br />\n<strong><span style="font-family:tahoma\,sans-serif\;"><span style="font-size:12.0pt\;">Saturday\, July 13</span></span></strong><span style="font-family:tahoma\,sans-serif\;"><span style="font-size:12.0pt\;">: 9:00am to 12:00pm</span></span><br />\n&nbsp\;<br />\n<strong><span style="font-family:tahoma\,sans-serif\;"><span style="font-size:12.0pt\;">Thursday\, September 26</span></span></strong><span style="font-family:tahoma\,sans-serif\;"><span style="font-size:12.0pt\;">:&nbsp\; 5:30pm to 8:00pm</span></span><br />\n&nbsp\;<br />\n<strong><span style="font-family:tahoma\,sans-serif\;"><span style="font-size:12.0pt\;">Saturday\, October 19</span></span></strong><span style="font-family:tahoma\,sans-serif\;"><span style="font-size:12.0pt\;">:&nbsp\; 9:00am to 12:00pm &nbsp\;&nbsp\;&nbsp\;[<strong>geology tour</strong> with Phil Fauble]</span></span><br />\n&nbsp\;<br />\n<span style="font-family:tahoma\,sans-serif\;"><span style="font-size:12.0pt\;">Tours are on a school bus and begin and end at the Badger History Museum at the entrance to Badger on Hwy. 12\, across from the Citgo Station. Each tour will last approximately 2 1/2 hours.&nbsp\; Snacks and refreshments will be provided.&nbsp\; </span></span><br />\n&nbsp\;<br />\n<u><span style="font-family:tahoma\,sans-serif\;"><span style="font-size:12.0pt\;">Tour cost</span></span></u><span style="font-family:tahoma\,sans-serif\;"><span style="font-size:12.0pt\;">: <strong>$15/person</strong> for members\, <strong>$25/person</strong> for non-members (fee includes a one-year guest membership)</span></span><br />\n&nbsp\;<br />\n<u><span style="font-family:tahoma\,sans-serif\;"><span style="font-size:12.0pt\;">Reservations and payment in advance required</span></span></u><span style="font-family:tahoma\,sans-serif\;"><span style="font-size:12.0pt\;">.&nbsp\; Please visit our website (<a href="http://www.saukprairievision.org/">www.SaukPrairieVision.org</a></span>) for details and a sign-up sheet.&nbsp\; Sorry\, no refunds if you can&rsquo\;t make it on a tour you signed up for.&nbsp\; </span><br />\n&nbsp\;<br />\n<span style="font-family:tahoma\,sans-serif\;"><span style="font-size:12.0pt\;">Contact Alliance Director Charlie Luthin with questions: &nbsp\;<u>info@saukprairievision.org</u></span></span>
LOCATION:
UID:e.1184.22273
SEQUENCE:3
DTSTAMP:20260423T113939Z
URL:http://members.saukprairie.com/events/details/public-tour-of-the-badger-lands-22273
END:VEVENT

END:VCALENDAR
