BEGIN:VCALENDAR
VERSION:2.0
PRODID:-//ChamberMaster//Event Calendar 2.0//EN
METHOD:PUBLISH
X-PUBLISHED-TTL:P3D
REFRESH-INTERVAL:P3D
CALSCALE:GREGORIAN
BEGIN:VEVENT
DTSTART:20180609T230000Z
DTEND:20180610T030000Z
X-MICROSOFT-CDO-ALLDAYEVENT:FALSE
SUMMARY:Pulling for Hope Prairie Du Sac Badger State Benefit pull
DESCRIPTION:American Family Childrens Benefit Pull featuring Lim Pro\, Super Farm\, 640 Pro Farm\, 466 Hot Farm\, Pro Stock Diesel Truck\, 2wd Truck
X-ALT-DESC;FMTTYPE=text/html:<span style="color: rgb(29\, 33\, 41)\; font-family: Helvetica\, Arial\, sans-serif\; font-size: 14px\;">American Family Childrens Benefit Pull featuring Lim Pro\, Super Farm\, 640 Pro Farm\, 466 Hot Farm\, Pro Stock Diesel Truck\, 2wd Truck</span>
LOCATION:Sauk Prairie FFA Alumni Park 998 15th Street\, Prairie du Sac
UID:e.1184.18369
SEQUENCE:3
DTSTAMP:20260424T100315Z
URL:http://members.saukprairie.com/events/details/pulling-for-hope-prairie-du-sac-badger-state-benefit-pull-18369
END:VEVENT

END:VCALENDAR
