BEGIN:VCALENDAR
VERSION:2.0
PRODID:-//ChamberMaster//Event Calendar 2.0//EN
METHOD:PUBLISH
X-PUBLISHED-TTL:P3D
REFRESH-INTERVAL:P3D
CALSCALE:GREGORIAN
BEGIN:VEVENT
DTSTART:20231021T170000Z
DTEND:20231021T190000Z
X-MICROSOFT-CDO-ALLDAYEVENT:FALSE
SUMMARY:Pumpkin Carving & Painting
DESCRIPTION:Spooky Season fun at Vintage Brewing Co. Sauk Prairie! Join us on the beer garden for an afternoon of pumpkin carving\, painting and decorating! $5 per pumpkin - Let us know how many pumpkins to order by saying you are interested or better yet RSVP yes to this event! We will have beer\, NA beverages\, food and fun. All are welcome. \n\n\n\nFacebook Event: https://www.facebook.com/events/851158652866548
X-ALT-DESC;FMTTYPE=text/html:<span style="color: rgb(5\, 5\, 5)\; font-family: &quot\;Segoe UI Historic&quot\;\, &quot\;Segoe UI&quot\;\, Helvetica\, Arial\, sans-serif\; font-size: 15px\;">Spooky Season fun at Vintage Brewing Co. Sauk Prairie! Join us on the beer garden for an afternoon of pumpkin carving\, painting and decorating! $5 per pumpkin - Let us know how many pumpkins to order by saying you are interested or better yet RSVP yes to this event! We will have beer\, NA beverages\, food and fun. All are welcome.&nbsp\;<br />\n<br />\nFacebook Event:&nbsp\;</span><a href="https://www.facebook.com/events/851158652866548">https://www.facebook.com/events/851158652866548</a>
LOCATION:Vintage Brewing Co.
UID:e.1184.31170
SEQUENCE:3
DTSTAMP:20260420T062017Z
URL:http://members.saukprairie.com/events/details/pumpkin-carving-painting-31170
END:VEVENT

END:VCALENDAR
