BEGIN:VCALENDAR
VERSION:2.0
PRODID:-//ChamberMaster//Event Calendar 2.0//EN
METHOD:PUBLISH
X-PUBLISHED-TTL:P3D
REFRESH-INTERVAL:P3D
CALSCALE:GREGORIAN
BEGIN:VEVENT
DTSTART:20191022T230000Z
DTEND:20191023T000000Z
X-MICROSOFT-CDO-ALLDAYEVENT:FALSE
SUMMARY:Pumpkin Decorating with Kristina Coopman
DESCRIPTION:Join instructor Kristina Coopman to get into the spooky spirit of Halloween! We provide the pumpkins and supplies\, you choose the design! Students can decorate their pumpkins with paint\, markers\, paper props\, and more. Students 5-7 years old require a chaperone present\; 8+ can come alone.
X-ALT-DESC;FMTTYPE=text/html:<span style="color:rgb(0\, 0\, 0)\; font-family:arial\,helvetica\,sans-serif">Join instructor Kristina Coopman to get into the spooky spirit of Halloween! We provide the pumpkins and supplies\, you choose the design! Students can decorate their pumpkins with paint\, markers\, paper props\, and more. Students 5-7 years old require a chaperone present\; 8+ can come alone.</span>
LOCATION:590 Water St\, Prairie du Sac\, WI 53578
UID:e.1184.23589
SEQUENCE:3
DTSTAMP:20260423T095637Z
URL:http://members.saukprairie.com/events/details/pumpkin-decorating-with-kristina-coopman-23589
END:VEVENT

END:VCALENDAR
