BEGIN:VCALENDAR
VERSION:2.0
PRODID:-//ChamberMaster//Event Calendar 2.0//EN
METHOD:PUBLISH
X-PUBLISHED-TTL:P3D
REFRESH-INTERVAL:P3D
CALSCALE:GREGORIAN
BEGIN:VEVENT
DTSTART;VALUE=DATE:20220918
DTEND;VALUE=DATE:20220919
TRANSP:TRANSPARENT
X-MICROSOFT-CDO-ALLDAYEVENT:TRUE
SUMMARY:Punt\, Pass & Kick Contest
DESCRIPTION:On Sunday September 18th at 4PM (sign up at 3:45pm) the Knights of Columbus will be holding their annual Punt\, Pass and Kick contest at St. Al's field (608 Oak Street).  Boys and girls ages 8-12 (age as of September 1st) are invited to participate in the contest with the 1st place winner in each group moving on to the Diocesan contest.  Winner will be determined based on the total distance of their punt\, pass and kick.  Any questions please call Eric 963-0338.  There is no cost!  Rain or shine!  The Packers play at night so you will not miss a minute of the game.
X-ALT-DESC;FMTTYPE=text/html:<span style="font-family:arial\,sans-serif\;"><span style="font-size:18.0pt\;">On Sunday September 18th at 4PM (sign up at 3:45pm) the Knights of Columbus will be holding their annual </span></span><strong><span style="font-family:arial\,sans-serif\;"><span style="font-size:20.0pt\;">Punt\, Pass and Kick</span></span></strong><span style="font-family:arial\,sans-serif\;"><span style="font-size:18.0pt\;"> contest at St. Al&rsquo\;s field (608 Oak Street).&nbsp\; Boys <u>and</u> girls ages 8-12 (age as of September 1st) are invited to participate in the contest with the 1st place winner in each group moving on to the Diocesan contest.&nbsp\; Winner will be determined based on the total distance of their punt\, pass and kick.&nbsp\; Any questions please call Eric 963-0338.&nbsp\; There is no cost!&nbsp\; Rain or shine!&nbsp\; The Packers play at night so you will not miss a minute of the game.</span></span>
LOCATION:St. Al's Field 608 Oak Street Sauk City
UID:e.1184.28707
SEQUENCE:3
DTSTAMP:20260421T061401Z
URL:http://members.saukprairie.com/events/details/punt-pass-kick-contest-28707
END:VEVENT

END:VCALENDAR
