BEGIN:VCALENDAR
VERSION:2.0
PRODID:-//ChamberMaster//Event Calendar 2.0//EN
METHOD:PUBLISH
X-PUBLISHED-TTL:P3D
REFRESH-INTERVAL:P3D
CALSCALE:GREGORIAN
BEGIN:VEVENT
DTSTART;VALUE=DATE:20160812
DTEND;VALUE=DATE:20160815
TRANSP:TRANSPARENT
X-MICROSOFT-CDO-ALLDAYEVENT:TRUE
SUMMARY:Putnam County Spelling Bee
DESCRIPTION:The Sauk Prairie Theatre Guild Presents the 25th Annual Putnam County Spelling Bee.\n\n\n\nMusic and Lyrics by William Finn\n\n\n\nBook by Rachel Sheinkin\n\n \n\nConceived by Rebecca Feldman\n\n\n\nAdditional Material by Jay Reiss\n\n \n\nOriginally Directed on Broadway by James Lapine\n\n \n\nOriginally produced on Broadway by David Stone\, James L. Nederlander\, Barbara Whitman\, Patrick Catullo Barrington Stage Company\, Second State Theatre\n\n \n\nAugust 12 and 13 at 7:30pm\n\nAugust 14 at 2:00 pm\n\n\n\nRiver Arts Center\, 105 Ninth St.\, Prairie du Sac\, WI\n\nTickets in Advance: Students/Seniors $10\; Adults $12\n\nTickets at the Door: Students/Seniors: $12\; Adults $14\n\n\n\nParental discretion 11 and under\n\n\n\nThis musical is supported in part by a grant from the Sauk County\n\nUW-Extension Arts & Culture Committee and Wisconsin Arts Board with funds from the State of Wisconsin and the National Endowment of the Arts\n\n\n\nTickets available at:\n\nRiver Arts on Water\,\n\nsptheatreguild.org\,\n\nand at the door
X-ALT-DESC;FMTTYPE=text/html:The Sauk Prairie Theatre Guild Presents the 25th Annual Putnam County Spelling Bee.<br />\n<br />\nMusic and Lyrics by William Finn<br />\n<br />\nBook by&nbsp\;Rachel Sheinkin<br />\n&#8203\;<br />\nConceived by&nbsp\;Rebecca Feldman<br />\n<br />\nAdditional Material by&nbsp\;Jay Reiss<br />\n&#8203\;<br />\nOriginally Directed on Broadway by James Lapine<br />\n&#8203\;<br />\nOriginally produced on Broadway by&nbsp\;David Stone\, James L. Nederlander\, Barbara Whitman\, Patrick Catullo&nbsp\;Barrington Stage Company\, Second State Theatre<br />\n&#8203\;<br />\nAugust 12 and 13 at 7:30pm<br />\nAugust 14 at 2:00 pm<br />\n<br />\nRiver Arts Center\, 105 Ninth St.\, Prairie du Sac\, WI<br />\nTickets in Advance: Students/Seniors $10\; Adults $12<br />\nTickets at the Door: Students/Seniors: $12\; Adults $14<br />\n<br />\nParental discretion 11 and under<br />\n<br />\nThis musical is supported in part by a grant from the Sauk County<br />\nUW-Extension Arts &amp\; Culture Committee and Wisconsin Arts Board with funds from the State of Wisconsin and the National Endowment of the Arts<br />\n<br />\nTickets available at:<br />\nRiver Arts on Water\,<br />\nsptheatreguild.org\,<br />\nand at the door
LOCATION:River Arts Center\, 105 Ninth St.\, Prairie du Sac\, WI
UID:e.1184.8884
SEQUENCE:3
DTSTAMP:20260425T205955Z
URL:http://members.saukprairie.com/events/details/putnam-county-spelling-bee-08-12-2016-8884
END:VEVENT

END:VCALENDAR
