BEGIN:VCALENDAR
VERSION:2.0
PRODID:-//ChamberMaster//Event Calendar 2.0//EN
METHOD:PUBLISH
X-PUBLISHED-TTL:P3D
REFRESH-INTERVAL:P3D
CALSCALE:GREGORIAN
BEGIN:VEVENT
DTSTART:20220721T210000Z
DTEND:20220721T230000Z
X-MICROSOFT-CDO-ALLDAYEVENT:FALSE
SUMMARY:QTI Anniversary Open House
DESCRIPTION:We invite you to join the QTI team on Thursday\, July 21st\, as we celebrate QTI's 65th Anniversary and the 30th Anniversary of our Baraboo branch office. A ribbon-cutting will take place at 4pm\, followed by light snacks\, drinks\, and networking. We hope you can join us!
X-ALT-DESC;FMTTYPE=text/html:We invite you to join the QTI team on Thursday\, July 21st\, as we celebrate QTI&#39\;s 65th Anniversary and the 30th Anniversary of our Baraboo branch office. A ribbon-cutting will take place at 4pm\, followed by light snacks\, drinks\, and networking. We hope you can join us!
LOCATION:The QTI Group: 522 South Blvd.\, Baraboo
UID:e.1184.28163
SEQUENCE:3
DTSTAMP:20260421T103537Z
URL:http://members.saukprairie.com/events/details/qti-anniversary-open-house-28163
END:VEVENT

END:VCALENDAR
