BEGIN:VCALENDAR
VERSION:2.0
PRODID:-//ChamberMaster//Event Calendar 2.0//EN
METHOD:PUBLISH
X-PUBLISHED-TTL:P3D
REFRESH-INTERVAL:P3D
CALSCALE:GREGORIAN
BEGIN:VEVENT
DTSTART:20170720T210000Z
DTEND:20170720T230000Z
X-MICROSOFT-CDO-ALLDAYEVENT:FALSE
SUMMARY:Quality Cellular Ribbon Cutting
DESCRIPTION:Join us for a Ribbon Cutting Ceremony for Quality Cellular!\n\n\n\nrsvp to spacc@saukprairie.com
X-ALT-DESC;FMTTYPE=text/html:Join us for a Ribbon Cutting Ceremony for Quality Cellular!<br />\n<br />\nrsvp to spacc@saukprairie.com
LOCATION:730 Phillips Blvd. Sauk City\, WI 53583
UID:e.1184.11838
SEQUENCE:3
DTSTAMP:20260425T032827Z
URL:http://members.saukprairie.com/events/details/quality-cellular-ribbon-cutting-11838
END:VEVENT

END:VCALENDAR
