BEGIN:VCALENDAR
VERSION:2.0
PRODID:-//ChamberMaster//Event Calendar 2.0//EN
METHOD:PUBLISH
X-PUBLISHED-TTL:P3D
REFRESH-INTERVAL:P3D
CALSCALE:GREGORIAN
BEGIN:VEVENT
DTSTART:20171121T003000Z
DTEND:20171121T013000Z
X-MICROSOFT-CDO-ALLDAYEVENT:FALSE
SUMMARY:Quilter Judy Hasheider
DESCRIPTION:Judy Hasheider of Quilt with Judy will speak at the Ruth Culver Community Library. Thank you to the Friends of the Ruth Culver Community Library for sponsoring this event.
X-ALT-DESC;FMTTYPE=text/html:Judy Hasheider of Quilt with Judy will speak at the Ruth Culver Community Library. Thank you to the Friends of the Ruth Culver Community Library for sponsoring this event.
LOCATION:Ruth Culver Community Library 540 Water St.\, Prairie du Sac
UID:e.1184.9923
SEQUENCE:3
DTSTAMP:20260424T205253Z
URL:http://members.saukprairie.com/events/details/quilter-judy-hasheider-9923
END:VEVENT

END:VCALENDAR
