BEGIN:VCALENDAR
VERSION:2.0
PRODID:-//ChamberMaster//Event Calendar 2.0//EN
METHOD:PUBLISH
X-PUBLISHED-TTL:P3D
REFRESH-INTERVAL:P3D
CALSCALE:GREGORIAN
BEGIN:VEVENT
DTSTART:20240406T000000Z
DTEND:20240406T020000Z
X-MICROSOFT-CDO-ALLDAYEVENT:FALSE
SUMMARY:RAC Series: Buckets N Boards
DESCRIPTION:Buckets N Boards Comedy Percussion Show is a spectacularly imaginative work brought to life by two prolific performers\, Matt Levingston and Gareth Sever. The show was born from their shared passion for music and rhythm\, but it truly comes to life through the nonstop hilarious interplay between these two characters and their audience.\n\n\n\nBuckets N Boards has performed 10 critically acclaimed summer seasons in Branson\, MO\, performed with the Kansas City Symphony\, and are currently one of the most requested headline acts on Disney Cruise Lines. From their imaginative songs\, beautiful harmonies\, dazzling tap dancing\, crisp beatboxing\, body percussion and bucket drumming\, to a fresh and unique brand of clean comedy\, Buckets N Boards has crafted an original theatrical experience the entire family will enjoy!\n\n\n\nSponsored by: CULVERS
X-ALT-DESC;FMTTYPE=text/html:Buckets N Boards Comedy Percussion Show is a spectacularly imaginative work brought to life by two prolific performers\, Matt Levingston and Gareth Sever. The show was born from their shared passion for music and rhythm\, but it truly comes to life through the nonstop hilarious interplay between these two characters and their audience.<br />\n<br />\nBuckets N Boards has performed 10 critically acclaimed summer seasons in Branson\, MO\, performed with the Kansas City Symphony\, and are currently one of the most requested headline acts on Disney Cruise Lines. From their imaginative songs\, beautiful harmonies\, dazzling tap dancing\, crisp beatboxing\, body percussion and bucket drumming\, to a fresh and unique brand of clean comedy\, Buckets N Boards has crafted an original theatrical experience the entire family will enjoy!<br />\n<br />\nSponsored by: CULVERS
LOCATION:Sauk Prairie River Arts Center (105-9th Street\, Prairie du Sac)
UID:e.1184.32044
SEQUENCE:3
DTSTAMP:20260419T221132Z
URL:http://members.saukprairie.com/events/details/rac-series-buckets-n-boards-32044
END:VEVENT

END:VCALENDAR
