BEGIN:VCALENDAR
VERSION:2.0
PRODID:-//ChamberMaster//Event Calendar 2.0//EN
METHOD:PUBLISH
X-PUBLISHED-TTL:P3D
REFRESH-INTERVAL:P3D
CALSCALE:GREGORIAN
BEGIN:VEVENT
DTSTART:20230422T000000Z
DTEND:20230422T020000Z
X-MICROSOFT-CDO-ALLDAYEVENT:FALSE
SUMMARY:RAC Series: Six Appeal Concert
DESCRIPTION:Six Appeal is a world class vocal ensemble infused with impeccable comedic timing and the energy and vitality of a rock band. Swearing off instruments\, this award-winning vocal band takes you on a journey that spans decades of music\, performing classic oldies\, current chart toppers\, and catchy original tunes   all sung a cappella.
X-ALT-DESC;FMTTYPE=text/html:Six Appeal is a world class vocal ensemble infused with impeccable comedic timing and the energy and vitality of a rock band. Swearing off instruments\, this award-winning vocal band takes you on a journey that spans decades of music\, performing classic oldies\, current chart toppers\, and catchy original&nbsp\;tunes &ndash\; all sung a cappella.
LOCATION:105 9th St\, Prairie Du Sac\, WI 53578
UID:e.1184.28239
SEQUENCE:3
DTSTAMP:20260420T145739Z
URL:http://members.saukprairie.com/events/details/rac-series-six-appeal-concert-28239
END:VEVENT

END:VCALENDAR
