BEGIN:VCALENDAR
VERSION:2.0
PRODID:-//ChamberMaster//Event Calendar 2.0//EN
METHOD:PUBLISH
X-PUBLISHED-TTL:P3D
REFRESH-INTERVAL:P3D
CALSCALE:GREGORIAN
BEGIN:VEVENT
DTSTART:20210218T180000Z
DTEND:20210218T190000Z
X-MICROSOFT-CDO-ALLDAYEVENT:FALSE
SUMMARY:Raising A Thinking Child
DESCRIPTION:Raising a Thinking Child offers special dialogues\, games\, and activities to respond to children's problems in a new way that will produce mentally healthy\, self-confident\, and socially responsible children! This course can be presented in Spanish or other languages for English Language Limited participants.
X-ALT-DESC;FMTTYPE=text/html:Raising a Thinking Child offers special dialogues\, games\, and activities to respond to children&#39\;s problems in a new way that will produce mentally healthy\, self-confident\, and socially responsible children! This course can be presented in Spanish or other languages for English Language Limited participants.
LOCATION:Join us virtually using zoom. Registration is required to receive connection information.
UID:e.1184.26153
SEQUENCE:3
DTSTAMP:20260422T091009Z
URL:http://members.saukprairie.com/events/details/raising-a-thinking-child-02-18-2021-26153
END:VEVENT

END:VCALENDAR
