BEGIN:VCALENDAR
VERSION:2.0
PRODID:-//ChamberMaster//Event Calendar 2.0//EN
METHOD:PUBLISH
X-PUBLISHED-TTL:P3D
REFRESH-INTERVAL:P3D
CALSCALE:GREGORIAN
BEGIN:VEVENT
DTSTART;VALUE=DATE:20191121
DTEND;VALUE=DATE:20191123
TRANSP:TRANSPARENT
X-MICROSOFT-CDO-ALLDAYEVENT:TRUE
SUMMARY:Rat Pack Summit - A Tribute
DESCRIPTION:Palace Theater presents A Tribute to the Rat Pack Summit\n\nbenefiting Agrace Hospice Care\n\nShows Thursday\, November 21 at 7PM & Friday\, November 22 at 1PM\n\n$1 donated to Agrace for each ticket sold\n\nOrder tickets on-line https://www.dellspalace.com/nowplaying/rat-pack-tribute-show\n\n or at the Box Office (608) 253-4000\n\nUse Code AGRACE15 (on-line or at Box Office) for 15% of ticket price donated to Agrace\n\nDinner & Show or Show Only options available\n\nQuestions? Call or E-mail Becky Radke (608) 712-1664 / rebekah.radke@agrace.org\n\n\n\n\n\nhttps://www.dellspalace.com/nowplaying/rat-pack-tribute-show
X-ALT-DESC;FMTTYPE=text/html:<span style="color:windowtext\;"><span style="font-size:12.0pt\;">Palace Theater presents <em>A Tribute to the Rat Pack Summit</em></span></span><br />\n<strong><span style="color:windowtext\;"><span style="font-size:12.0pt\;">benefiting Agrace Hospice Care</span></span></strong><br />\n<span style="color:windowtext\;"><span style="font-size:12.0pt\;">Shows Thursday\, November 21 at 7PM &amp\; Friday\, November 22 at 1PM</span></span><br />\n<span style="color:windowtext\;"><span style="font-size:12.0pt\;">$1 donated to Agrace for each ticket sold</span></span><br />\n<span style="color:windowtext\;"><span style="font-size:12.0pt\;">Order tickets on-line </span></span><u><span style="color:#085296\;"><span style="font-family:tahoma\,sans-serif\;">https://www.dellspalace.com/nowplaying/rat-pack-tribute-show</span></span></u><br />\n<span style="color:windowtext\;"><span style="font-size:12.0pt\;">&nbsp\;or at the Box Office (608) 253-4000</span></span><br />\n<span style="color:windowtext\;"><span style="font-size:12.0pt\;">Use Code AGRACE15 (on-line or at Box Office) for 15% of ticket price donated to Agrace</span></span><br />\n<strong><em><span style="color:windowtext\;"><span style="font-family:calibri\,sans-serif\;"><span style="font-size:12.0pt\;">Dinner &amp\; Show</span></span></span></em></strong> <strong><span style="color:windowtext\;"><span style="font-size:12.0pt\;">or <em><span style="font-family:calibri\,sans-serif\;">Show Only </span></em></span>options available</span></strong><br />\n<span style="color:windowtext\;"><span style="font-size:12.0pt\;">Questions? Call or E-mail Becky Radke (608) 712-1664 / rebekah.radke@agrace.org</span></span><br />\n<br />\n<br />\n<span style="font-family:calibri\,sans-serif\;"><span style="font-size:12.0pt\;"><a href="https://www.dellspalace.com/nowplaying/rat-pack-tribute-show"><span style="color:blue\;">https://www.dellspalace.com/nowplaying/rat-pack-tribute-show</span></a></span></span>
LOCATION:
UID:e.1184.23639
SEQUENCE:3
DTSTAMP:20260423T095114Z
URL:http://members.saukprairie.com/events/details/rat-pack-summit-a-tribute-23639
END:VEVENT

END:VCALENDAR
