BEGIN:VCALENDAR
VERSION:2.0
PRODID:-//ChamberMaster//Event Calendar 2.0//EN
METHOD:PUBLISH
X-PUBLISHED-TTL:P3D
REFRESH-INTERVAL:P3D
CALSCALE:GREGORIAN
BEGIN:VEVENT
DTSTART:20190613T223000Z
DTEND:20190614T020000Z
X-MICROSOFT-CDO-ALLDAYEVENT:FALSE
SUMMARY:Raycestrong Benefit with Sam Ness and Friends
DESCRIPTION:No Cover\n\nAll Ages/ Family Friendly Event\n\n\n\nPeople\, you don't want to miss this very special event! Sam Ness w/ Special Guests will be providing entertainment and Vintage will be supporting this special event all day to support the Raycestrong Scholarship Fund! Rayce was one of Sauk Prairie's own that lost his life to Aplastic Anemia last year. \n\n\n\nMoney raised from this event will go to other students that love and excel in their musical talents. Please join us as we celebrate Rayce's life and give his friends a chance at a better future!\n\n\n\nMichael Endres (Sauk Prairie) 5:30pm\n\nMaddie Starks (South Carolina) 6pm\n\nMolly Adamson (Arkansas) 6:30pm\n\nSam Ness (Sauk Prairie) 7pm
X-ALT-DESC;FMTTYPE=text/html:<span style="color: rgb(29\, 33\, 41)\; font-family: Helvetica\, Arial\, sans-serif\; font-size: 14px\; white-space: pre-wrap\;">No Cover</span><br style="color: rgb(29\, 33\, 41)\; font-family: Helvetica\, Arial\, sans-serif\; font-size: 14px\; white-space: pre-wrap\;" />\n<span style="color: rgb(29\, 33\, 41)\; font-family: Helvetica\, Arial\, sans-serif\; font-size: 14px\; white-space: pre-wrap\;">All Ages/ Family Friendly Event</span><br style="color: rgb(29\, 33\, 41)\; font-family: Helvetica\, Arial\, sans-serif\; font-size: 14px\; white-space: pre-wrap\;" />\n<br style="color: rgb(29\, 33\, 41)\; font-family: Helvetica\, Arial\, sans-serif\; font-size: 14px\; white-space: pre-wrap\;" />\n<span style="color: rgb(29\, 33\, 41)\; font-family: Helvetica\, Arial\, sans-serif\; font-size: 14px\; white-space: pre-wrap\;">People\, you don&#39\;t want to miss this very special event! Sam Ness w/ Special Guests will be providing entertainment and Vintage will be supporting this special event all day to support the Raycestrong Scholarship Fund! Rayce was one of Sauk Prairie&#39\;s own that lost his life to Aplastic Anemia last year. </span><br style="color: rgb(29\, 33\, 41)\; font-family: Helvetica\, Arial\, sans-serif\; font-size: 14px\; white-space: pre-wrap\;" />\n<br style="color: rgb(29\, 33\, 41)\; font-family: Helvetica\, Arial\, sans-serif\; font-size: 14px\; white-space: pre-wrap\;" />\n<span style="color: rgb(29\, 33\, 41)\; font-family: Helvetica\, Arial\, sans-serif\; font-size: 14px\; white-space: pre-wrap\;">Money raised from this event will go to other students that love and excel in their musical talents. Please join us as we celebrate Rayce&#39\;s life and give his friends a chance at a better future!</span><br style="color: rgb(29\, 33\, 41)\; font-family: Helvetica\, Arial\, sans-serif\; font-size: 14px\; white-space: pre-wrap\;" />\n<br style="color: rgb(29\, 33\, 41)\; font-family: Helvetica\, Arial\, sans-serif\; font-size: 14px\; white-space: pre-wrap\;" />\n<a href="https://www.facebook.com/michael.endres.5458" style="color: rgb(56\, 88\, 152)\; cursor: pointer\; text-decoration-line: none\; font-family: Helvetica\, Arial\, sans-serif\; font-size: 14px\; white-space: pre-wrap\;" target="_blank">Michael Endres</a><span style="color: rgb(29\, 33\, 41)\; font-family: Helvetica\, Arial\, sans-serif\; font-size: 14px\; white-space: pre-wrap\;"> (Sauk Prairie) 5:30pm</span><br style="color: rgb(29\, 33\, 41)\; font-family: Helvetica\, Arial\, sans-serif\; font-size: 14px\; white-space: pre-wrap\;" />\n<a href="https://www.facebook.com/maddiestarksmusic/" style="color: rgb(56\, 88\, 152)\; cursor: pointer\; text-decoration-line: none\; font-family: Helvetica\, Arial\, sans-serif\; font-size: 14px\; white-space: pre-wrap\;" target="_blank">Maddie Starks</a><span style="color: rgb(29\, 33\, 41)\; font-family: Helvetica\, Arial\, sans-serif\; font-size: 14px\; white-space: pre-wrap\;"> (South Carolina) 6pm</span><br style="color: rgb(29\, 33\, 41)\; font-family: Helvetica\, Arial\, sans-serif\; font-size: 14px\; white-space: pre-wrap\;" />\n<a href="https://www.facebook.com/molly.adamson.710" style="color: rgb(56\, 88\, 152)\; cursor: pointer\; text-decoration-line: none\; font-family: Helvetica\, Arial\, sans-serif\; font-size: 14px\; white-space: pre-wrap\;" target="_blank">Molly Adamson</a><span style="color: rgb(29\, 33\, 41)\; font-family: Helvetica\, Arial\, sans-serif\; font-size: 14px\; white-space: pre-wrap\;"> (Arkansas) 6:30pm</span><br style="color: rgb(29\, 33\, 41)\; font-family: Helvetica\, Arial\, sans-serif\; font-size: 14px\; white-space: pre-wrap\;" />\n<a href="https://www.facebook.com/SamNessMusician/" style="color: rgb(56\, 88\, 152)\; cursor: pointer\; text-decoration-line: none\; font-family: Helvetica\, Arial\, sans-serif\; font-size: 14px\; white-space: pre-wrap\;" target="_blank">Sam Ness</a><span style="color: rgb(29\, 33\, 41)\; font-family: Helvetica\, Arial\, sans-serif\; font-size: 14px\; white-space: pre-wrap\;"> (Sauk Prairie) 7pm</span>
LOCATION:Vintage Brewing Co. 600 Water St. Sauk City\, WI 533583
UID:e.1184.22557
SEQUENCE:3
DTSTAMP:20260423T154255Z
URL:http://members.saukprairie.com/events/details/raycestrong-benefit-with-sam-ness-and-friends-22557
END:VEVENT

END:VCALENDAR
