BEGIN:VCALENDAR
VERSION:2.0
PRODID:-//ChamberMaster//Event Calendar 2.0//EN
METHOD:PUBLISH
X-PUBLISHED-TTL:P3D
REFRESH-INTERVAL:P3D
CALSCALE:GREGORIAN
BEGIN:VEVENT
DTSTART:20200726T180000Z
DTEND:20200726T230000Z
X-MICROSOFT-CDO-ALLDAYEVENT:FALSE
SUMMARY:Raycestrong Fundraiser
DESCRIPTION:It is our pleasure to once again be hosting this amazing event! Vintage will be donating 10 percent of sales for the day to the Raycestrong Scholarship Fund which allows other music students to follow their dream. Please join us for a day filled with music\, Rayce's love\, and coming together to remember a life gone too soon. \n\nLive music all day! \n\nMichael Endres 1-2\n\nSam Ness 2-4\n\nWater Street Jacks 4-6\n\n\n\nWords from Rayces mom\, Jessica Frey:\n\nI was given this idea by a dear new friend who knows how hard it is to go through the holidays after losing a child. I thought it sounded like something I can see Rayce doing if he were still here. He loved everyone and went out of his way to make people feel good all the time. So what I am asking is that you take time and do something nice for someone\, Pay-it-forward (you can do this more than once if you choose to) and then take a minute and tell me about it. I have set up this group page to tell your stories. My hope is to have this continue year round. \n\n\n\nShare this with anyone and everyone. It only takes a minute to make someone feel special so please take a minute to do what Rayce was so amazing at. Help me keep his spirit going!!\n\n\n\nLove you all\, I am so excited to see what we can do!!!\n\n\n\nJess
X-ALT-DESC;FMTTYPE=text/html:<span style="color: rgb(29\, 33\, 41)\; font-family: Helvetica\, Arial\, sans-serif\; font-size: 14px\; white-space: pre-wrap\;">It is our pleasure to once again be hosting this amazing event! Vintage will be donating 10 percent of sales for the day to the Raycestrong Scholarship Fund which allows other music students to follow their dream. Please join us for a day filled with music\, Rayce&#39\;s love\, and coming together to remember a life gone too soon. </span><br style="color: rgb(29\, 33\, 41)\; font-family: Helvetica\, Arial\, sans-serif\; font-size: 14px\; white-space: pre-wrap\;" />\n<span style="color: rgb(29\, 33\, 41)\; font-family: Helvetica\, Arial\, sans-serif\; font-size: 14px\; white-space: pre-wrap\;">Live music all day! </span><br style="color: rgb(29\, 33\, 41)\; font-family: Helvetica\, Arial\, sans-serif\; font-size: 14px\; white-space: pre-wrap\;" />\n<span style="color: rgb(29\, 33\, 41)\; font-family: Helvetica\, Arial\, sans-serif\; font-size: 14px\; white-space: pre-wrap\;">Michael Endres 1-2</span><br style="color: rgb(29\, 33\, 41)\; font-family: Helvetica\, Arial\, sans-serif\; font-size: 14px\; white-space: pre-wrap\;" />\n<span style="color: rgb(29\, 33\, 41)\; font-family: Helvetica\, Arial\, sans-serif\; font-size: 14px\; white-space: pre-wrap\;">Sam Ness 2-4</span><br style="color: rgb(29\, 33\, 41)\; font-family: Helvetica\, Arial\, sans-serif\; font-size: 14px\; white-space: pre-wrap\;" />\n<span style="color: rgb(29\, 33\, 41)\; font-family: Helvetica\, Arial\, sans-serif\; font-size: 14px\; white-space: pre-wrap\;">Water Street Jacks 4-6</span><br style="color: rgb(29\, 33\, 41)\; font-family: Helvetica\, Arial\, sans-serif\; font-size: 14px\; white-space: pre-wrap\;" />\n<br style="color: rgb(29\, 33\, 41)\; font-family: Helvetica\, Arial\, sans-serif\; font-size: 14px\; white-space: pre-wrap\;" />\n<span style="color: rgb(29\, 33\, 41)\; font-family: Helvetica\, Arial\, sans-serif\; font-size: 14px\; white-space: pre-wrap\;">Words from Rayces mom\, Jessica Frey:</span><br style="color: rgb(29\, 33\, 41)\; font-family: Helvetica\, Arial\, sans-serif\; font-size: 14px\; white-space: pre-wrap\;" />\n<span style="color: rgb(29\, 33\, 41)\; font-family: Helvetica\, Arial\, sans-serif\; font-size: 14px\; white-space: pre-wrap\;">I was given this idea by a dear new friend who knows how hard it is to go through the holidays after losing a child. I thought it sounded like something I can see Rayce doing if he were still here. He loved everyone and went out of his way to make people feel good all the time. So what I am asking is that you take time and do something nice for someone\, Pay-it-forward (you can do this more than once if you choose to) and then take a minute and tell me about it. I have set up this group page to tell your stories. My hope is to have this continue year round. </span><br style="color: rgb(29\, 33\, 41)\; font-family: Helvetica\, Arial\, sans-serif\; font-size: 14px\; white-space: pre-wrap\;" />\n<br style="color: rgb(29\, 33\, 41)\; font-family: Helvetica\, Arial\, sans-serif\; font-size: 14px\; white-space: pre-wrap\;" />\n<span style="color: rgb(29\, 33\, 41)\; font-family: Helvetica\, Arial\, sans-serif\; font-size: 14px\; white-space: pre-wrap\;">Share this with anyone and everyone. It only takes a minute to make someone feel special so please take a minute to do what Rayce was so amazing at. Help me keep his spirit going!!</span><br style="color: rgb(29\, 33\, 41)\; font-family: Helvetica\, Arial\, sans-serif\; font-size: 14px\; white-space: pre-wrap\;" />\n<br style="color: rgb(29\, 33\, 41)\; font-family: Helvetica\, Arial\, sans-serif\; font-size: 14px\; white-space: pre-wrap\;" />\n<span style="color: rgb(29\, 33\, 41)\; font-family: Helvetica\, Arial\, sans-serif\; font-size: 14px\; white-space: pre-wrap\;">Love you all\, I am so excited to see what we can do!!!</span><br style="color: rgb(29\, 33\, 41)\; font-family: Helvetica\, Arial\, sans-serif\; font-size: 14px\; white-space: pre-wrap\;" />\n<br style="color: rgb(29\, 33\, 41)\; font-family: Helvetica\, Arial\, sans-serif\; font-size: 14px\; white-space: pre-wrap\;" />\n<span style="color: rgb(29\, 33\, 41)\; font-family: Helvetica\, Arial\, sans-serif\; font-size: 14px\; white-space: pre-wrap\;">Jess </span>
LOCATION:Vintage Brewing Co. 600 Water St. Sauk City\, WI 533583
UID:e.1184.24099
SEQUENCE:3
DTSTAMP:20260422T194705Z
URL:http://members.saukprairie.com/events/details/raycestrong-fundraiser-24099
END:VEVENT

END:VCALENDAR
