BEGIN:VCALENDAR
VERSION:2.0
PRODID:-//ChamberMaster//Event Calendar 2.0//EN
METHOD:PUBLISH
X-PUBLISHED-TTL:P3D
REFRESH-INTERVAL:P3D
CALSCALE:GREGORIAN
BEGIN:VEVENT
DTSTART:20220821T180000Z
DTEND:20220821T230000Z
X-MICROSOFT-CDO-ALLDAYEVENT:FALSE
SUMMARY:Raycestrong Fundraiser
DESCRIPTION:Raycestrong Benefit\n\nMark your calendars for Sunday\, August 21\, 2022\, from 1:00 to 5:00 pm to join us at the Vintage Brewing Co. Sauk Prairie.\n\nVintage Brewing Co. Sauk Prairie\n\nNo Cover\n\nAll Ages/Family Friendly Event\n\nYou won't want to miss this special event! Entertainment will be provided by Water Street Jacks and Michael Endres and Vintage will be supporting this special event all day to support Raycestrong Scholarship Fund! Rayce was one of Sauk Prairie's own that lost his life to Aplastic Anemia in 2018.\n\nMoney raised from this event will go to other students that love and excel in their musical talents. Please join us as we celebrate Rayce's life and give others a chance at a better future.\n\nWe would love to try a silent auction for the Raycestrong Benefit this year. If anyone would like to be a part of this and donate to our cause\, please contact us by August 10th. This is something we have never done but are extremely excited to try!!\n\nComing soon!!! Raycestrong will again have clothing available....New Design!! Along with window stickers\, we can't wait!!\n\nWe can't wait to spend the day with you. Music by Water Street Jack's and Michael Endres\, friends\, family\, and love!! Just what RAYCE would want!!\n\nAND A huge thank you to Vintage Brewing Co. Sauk Prairie for this opportunity again!!
X-ALT-DESC;FMTTYPE=text/html:<div class="kvgmc6g5 cxmmr5t8 oygrvhab hcukyx3x c1et5uql" style="overflow-wrap: break-word\; margin: 0px\; font-family: &quot\;Segoe UI Historic&quot\;\, &quot\;Segoe UI&quot\;\, Helvetica\, Arial\, sans-serif\; color: rgb(5\, 5\, 5)\; font-size: 15px\;">Raycestrong Benefit</div>\n\n<div class="cxmmr5t8 oygrvhab hcukyx3x c1et5uql o9v6fnle" style="overflow-wrap: break-word\; margin: 0.5em 0px 0px\; font-family: &quot\;Segoe UI Historic&quot\;\, &quot\;Segoe UI&quot\;\, Helvetica\, Arial\, sans-serif\; color: rgb(5\, 5\, 5)\; font-size: 15px\;">Mark your calendars for Sunday\, August 21\, 2022\, from 1:00 to 5:00 pm to join us at the Vintage Brewing Co. Sauk Prairie.</div>\n\n<div class="cxmmr5t8 oygrvhab hcukyx3x c1et5uql o9v6fnle" style="overflow-wrap: break-word\; margin: 0.5em 0px 0px\; font-family: &quot\;Segoe UI Historic&quot\;\, &quot\;Segoe UI&quot\;\, Helvetica\, Arial\, sans-serif\; color: rgb(5\, 5\, 5)\; font-size: 15px\;">Vintage Brewing Co. Sauk Prairie<br />\nNo Cover<br />\nAll Ages/Family Friendly Event</div>\n\n<div class="cxmmr5t8 oygrvhab hcukyx3x c1et5uql o9v6fnle" style="overflow-wrap: break-word\; margin: 0.5em 0px 0px\; font-family: &quot\;Segoe UI Historic&quot\;\, &quot\;Segoe UI&quot\;\, Helvetica\, Arial\, sans-serif\; color: rgb(5\, 5\, 5)\; font-size: 15px\;">You won&#39\;t want to miss this special event! Entertainment will be provided by Water Street Jacks and Michael Endres and Vintage will be supporting this special event all day to support Raycestrong Scholarship Fund! Rayce was one of Sauk Prairie&#39\;s own that lost his life to Aplastic Anemia in 2018.</div>\n\n<div class="cxmmr5t8 oygrvhab hcukyx3x c1et5uql o9v6fnle" style="overflow-wrap: break-word\; margin: 0.5em 0px 0px\; font-family: &quot\;Segoe UI Historic&quot\;\, &quot\;Segoe UI&quot\;\, Helvetica\, Arial\, sans-serif\; color: rgb(5\, 5\, 5)\; font-size: 15px\;">Money raised from this event will go to other students that love and excel in their musical talents. Please join us as we celebrate Rayce&#39\;s life and give others a chance at a better future.</div>\n\n<div class="cxmmr5t8 oygrvhab hcukyx3x c1et5uql o9v6fnle" style="overflow-wrap: break-word\; margin: 0.5em 0px 0px\; font-family: &quot\;Segoe UI Historic&quot\;\, &quot\;Segoe UI&quot\;\, Helvetica\, Arial\, sans-serif\; color: rgb(5\, 5\, 5)\; font-size: 15px\;">We would love to try a silent auction for the Raycestrong Benefit this year. If anyone would like to be a part of this and donate to our cause\, please contact us by August 10th. This is something we have never done but are extremely excited to try!!</div>\n\n<div class="cxmmr5t8 oygrvhab hcukyx3x c1et5uql o9v6fnle" style="overflow-wrap: break-word\; margin: 0.5em 0px 0px\; font-family: &quot\;Segoe UI Historic&quot\;\, &quot\;Segoe UI&quot\;\, Helvetica\, Arial\, sans-serif\; color: rgb(5\, 5\, 5)\; font-size: 15px\;">Coming soon!!! Raycestrong will again have clothing available....New Design!! Along with window stickers\, we can&#39\;t wait!!</div>\n\n<div class="cxmmr5t8 oygrvhab hcukyx3x c1et5uql o9v6fnle" style="overflow-wrap: break-word\; margin: 0.5em 0px 0px\; font-family: &quot\;Segoe UI Historic&quot\;\, &quot\;Segoe UI&quot\;\, Helvetica\, Arial\, sans-serif\; color: rgb(5\, 5\, 5)\; font-size: 15px\;">We can&#39\;t wait to spend the day with you. Music by Water Street Jack&#39\;s and Michael Endres\, friends\, family\, and love!! Just what RAYCE would want!!</div>\n\n<div class="cxmmr5t8 oygrvhab hcukyx3x c1et5uql o9v6fnle" style="overflow-wrap: break-word\; margin: 0.5em 0px 0px\; font-family: &quot\;Segoe UI Historic&quot\;\, &quot\;Segoe UI&quot\;\, Helvetica\, Arial\, sans-serif\; color: rgb(5\, 5\, 5)\; font-size: 15px\;">AND A huge thank you to Vintage Brewing Co. Sauk Prairie for this opportunity again!!</div>\n
LOCATION:Vintage Brewing Co. 600 Water St. Sauk City\, WI 533583
UID:e.1184.28660
SEQUENCE:3
DTSTAMP:20260421T073413Z
URL:http://members.saukprairie.com/events/details/raycestrong-fundraiser-28660
END:VEVENT

END:VCALENDAR
