BEGIN:VCALENDAR
VERSION:2.0
PRODID:-//ChamberMaster//Event Calendar 2.0//EN
METHOD:PUBLISH
X-PUBLISHED-TTL:P3D
REFRESH-INTERVAL:P3D
CALSCALE:GREGORIAN
BEGIN:VEVENT
DTSTART:20180621T210000Z
DTEND:20180622T000000Z
X-MICROSOFT-CDO-ALLDAYEVENT:FALSE
SUMMARY:RE/MAX Grand - Grand Opening!
DESCRIPTION:Join RE/MEX Grand on June 21st for their Grand Opening!\n\n\n\nLive music by Say it Ain't Soul\, refreshments\, and door prizes!
X-ALT-DESC;FMTTYPE=text/html:Join RE/MEX Grand on June 21st for their Grand Opening!<br />\n<br />\nLive music by Say it Ain&#39\;t Soul\, refreshments\, and door prizes!
LOCATION:708 Water Street Sauk City
UID:e.1184.18353
SEQUENCE:3
DTSTAMP:20260424T113302Z
URL:http://members.saukprairie.com/events/details/re-max-grand-grand-opening-18353
END:VEVENT

END:VCALENDAR
