BEGIN:VCALENDAR
VERSION:2.0
PRODID:-//ChamberMaster//Event Calendar 2.0//EN
METHOD:PUBLISH
X-PUBLISHED-TTL:P3D
REFRESH-INTERVAL:P3D
CALSCALE:GREGORIAN
BEGIN:VEVENT
DTSTART:20180510T170000Z
DTEND:20180510T180000Z
X-MICROSOFT-CDO-ALLDAYEVENT:FALSE
SUMMARY:RE/MAX Grand Ribbon Cutting
DESCRIPTION:Join us for a Ribbon Cutting Ceremony for RE/MAX Grand.\n\n\n\nrsvp to spacc@saukprairie.com
X-ALT-DESC;FMTTYPE=text/html:Join us for a Ribbon Cutting Ceremony for RE/MAX Grand.<br />\n<br />\nrsvp to spacc@saukprairie.com
LOCATION:708 Water St. Sauk City\, WI 53583
UID:e.1184.18067
SEQUENCE:3
DTSTAMP:20260424T112255Z
URL:http://members.saukprairie.com/events/details/re-max-grand-ribbon-cutting-18067
END:VEVENT

END:VCALENDAR
