BEGIN:VCALENDAR
VERSION:2.0
PRODID:-//ChamberMaster//Event Calendar 2.0//EN
METHOD:PUBLISH
X-PUBLISHED-TTL:P3D
REFRESH-INTERVAL:P3D
CALSCALE:GREGORIAN
BEGIN:VEVENT
DTSTART:20180514T203000Z
DTEND:20180514T213000Z
X-MICROSOFT-CDO-ALLDAYEVENT:FALSE
SUMMARY:Read with Monty the Dog!
DESCRIPTION:More Details Forthcoming
X-ALT-DESC;FMTTYPE=text/html:More Details Forthcoming&nbsp\;
LOCATION:
UID:e.1184.18053
SEQUENCE:3
DTSTAMP:20260424T112233Z
URL:http://members.saukprairie.com/events/details/read-with-monty-the-dog-18053
END:VEVENT

END:VCALENDAR
