BEGIN:VCALENDAR
VERSION:2.0
PRODID:-//ChamberMaster//Event Calendar 2.0//EN
METHOD:PUBLISH
X-PUBLISHED-TTL:P3D
REFRESH-INTERVAL:P3D
CALSCALE:GREGORIAN
BEGIN:VEVENT
DTSTART:20181109T003000Z
DTEND:20181109T013000Z
X-MICROSOFT-CDO-ALLDAYEVENT:FALSE
SUMMARY:Reading Dogs with Patricia McConnell
DESCRIPTION:Ever wonder what your dog is trying to tell you? Dogs are great communicators\, but we aren't always good at translating what they are telling us. Learn more at the library Thursday\, November 8 at 6:30 p.m.  Patricia McConnell\, known worldwide as an expert on canine and feline behavior and dog training\, will share a presentation of slides and videos that will make you fluent in all things dog! (Also will be broadcast on Facebook Live.)\n\nA highly-sought after speaker on dog behavior and training\, McConnell has presented seminars all over the United States\, and in Canada\, Germany\, Australia\, Sweden\, Belgium\, Scotland and New Zealand. She is the author of the much-acclaimed books The Other End of the Leash (which is now published in 13 languages)\, For the Love of A Dog: Understanding Emotions in You and Your Best Friend and Tales of Two Species. Her memoir\, The Education of Will: A Mutual Memoir of a Woman and Her Dog was released in February of 2017.\n\nThank you to the Friends of the Ruth Culver Community Library for sponsoring this event.  Contact Meagan at 643-8318 with questions.
X-ALT-DESC;FMTTYPE=text/html:<div>\n<div>\n<div>\n<p>Ever wonder what your dog is trying to tell you? Dogs are great communicators\, but we aren&#39\;t always good at translating what they are telling us. Learn more at the library Thursday\, November 8 at 6:30 p.m.&nbsp\; Patricia McConnell\, known worldwide as an expert on canine and feline behavior and dog training\, will share a presentation of slides and videos that will make you fluent in all things dog! (Also will be broadcast on Facebook Live.)</p>\n\n<p>A highly-sought after speaker on dog behavior and training\, McConnell has presented seminars all over the United States\, and in Canada\, Germany\, Australia\, Sweden\, Belgium\, Scotland and New Zealand. She is the author of the much-acclaimed books <em>The Other End of the Leash</em> (which is now published in 13 languages)\,<em> For the Love of A Dog: Understanding Emotions in You and Your Best Friend</em> and<em> Tales of Two Species</em>. Her memoir\, <em>The Education of Will: A Mutual Memoir of a Woman and Her Dog</em>&nbsp\;was released in February of 2017.</p>\n\n<p>Thank you to the Friends of the Ruth Culver Community Library for sponsoring this event.&nbsp\; Contact Meagan at 643-8318 with questions.</p>\n</div>\n</div>\n</div>\n
LOCATION:Ruth Culver Community Library 540 Water Street\, Prairie du Sac
UID:e.1184.18145
SEQUENCE:3
DTSTAMP:20260424T022208Z
URL:http://members.saukprairie.com/events/details/reading-dogs-with-patricia-mcconnell-18145
END:VEVENT

END:VCALENDAR
