BEGIN:VCALENDAR
VERSION:2.0
PRODID:-//ChamberMaster//Event Calendar 2.0//EN
METHOD:PUBLISH
X-PUBLISHED-TTL:P3D
REFRESH-INTERVAL:P3D
CALSCALE:GREGORIAN
BEGIN:VEVENT
DTSTART;VALUE=DATE:20221022
DTEND;VALUE=DATE:20221023
TRANSP:TRANSPARENT
X-MICROSOFT-CDO-ALLDAYEVENT:TRUE
SUMMARY:Real. Live. Comedy. At Ques Bar & River Deck
DESCRIPTION:StandUpGuys return to the hauntingly inviting realm of Prairie du Sac and Ques Bar & River Deck for another ghoulishly grotesque adventure in comedy!\n\nJoin Dobie Maxwell and Brendan O'Day (and maybe a special guest or two) as they scare the bejeezus out of you   well\, make you laugh\, anyway.\n\nCall 608 843 7837 for tickets\, tables and more information.\n\n\n\nDoors open at 6pm/Show starts at 8pm\n\nNo walk ins all pre sold\n\nTotal Table Cost: $200\, includes 4 tickets\, advertisement logo on poster\, and $60 bar credit
X-ALT-DESC;FMTTYPE=text/html:<div class="kvgmc6g5 cxmmr5t8 oygrvhab hcukyx3x c1et5uql" style="overflow-wrap: break-word\; margin: 0px\; font-family: &quot\;Segoe UI Historic&quot\;\, &quot\;Segoe UI&quot\;\, Helvetica\, Arial\, sans-serif\; color: rgb(5\, 5\, 5)\; font-size: 15px\;">StandUpGuys return to the hauntingly inviting realm of Prairie du Sac and Ques Bar &amp\; River Deck for another ghoulishly grotesque adventure in comedy!</div>\n\n<div class="cxmmr5t8 oygrvhab hcukyx3x c1et5uql o9v6fnle" style="overflow-wrap: break-word\; margin: 0.5em 0px 0px\; font-family: &quot\;Segoe UI Historic&quot\;\, &quot\;Segoe UI&quot\;\, Helvetica\, Arial\, sans-serif\; color: rgb(5\, 5\, 5)\; font-size: 15px\;">Join Dobie Maxwell and Brendan O&#39\;Day (and maybe a special guest or two) as they scare the bejeezus out of you &ndash\; well\, make you laugh\, anyway.</div>\n\n<div class="cxmmr5t8 oygrvhab hcukyx3x c1et5uql o9v6fnle" style="overflow-wrap: break-word\; margin: 0.5em 0px 0px\; font-family: &quot\;Segoe UI Historic&quot\;\, &quot\;Segoe UI&quot\;\, Helvetica\, Arial\, sans-serif\; color: rgb(5\, 5\, 5)\; font-size: 15px\;">Call&nbsp\;<span style="color: rgb(5\, 5\, 5)\; font-family: &quot\;Segoe UI Historic&quot\;\, &quot\;Segoe UI&quot\;\, Helvetica\, Arial\, sans-serif\; font-size: 15px\;">608&bull\;843&bull\;7837</span> for tickets\, tables and more information.<br />\n<br />\nDoors open at 6pm/Show starts at 8pm<br />\nNo walk ins all pre sold<br />\nTotal Table Cost: $200\, includes 4 tickets\, advertisement logo on poster\, and $60 bar credit</div>\n
LOCATION:Que's Bar & River Deck 612 Water Street Prairie du Sac\, WI 53578
UID:e.1184.28178
SEQUENCE:3
DTSTAMP:20260421T044847Z
URL:http://members.saukprairie.com/events/details/real-live-comedy-at-ques-bar-river-deck-28178
END:VEVENT

END:VCALENDAR
