BEGIN:VCALENDAR
VERSION:2.0
PRODID:-//ChamberMaster//Event Calendar 2.0//EN
METHOD:PUBLISH
X-PUBLISHED-TTL:P3D
REFRESH-INTERVAL:P3D
CALSCALE:GREGORIAN
BEGIN:VEVENT
DTSTART:20240809T190000Z
DTEND:20240809T210000Z
X-MICROSOFT-CDO-ALLDAYEVENT:FALSE
SUMMARY:Recycled Fashion Show Workshop
DESCRIPTION:RECYCLED FASHION WORKSHOP\n\n\n\nFriday\, August 9 at 2:00 pm\n\n\n\nBring out your thrifted\, out-of-current-fashion but still workable clothes\, vintage finds and swapped pieces\, and remake them into cool new outfits! Meet up with us at the library to work on the library's sewing machines\, swap with other creators\, and start putting your Recycled Fashion threads together in preparation for the fashion show in October. The library will provide: fabric and thread\, sewing machines\, patterns and instructions\, and snacks. For teens and young adults.
X-ALT-DESC;FMTTYPE=text/html:RECYCLED FASHION WORKSHOP<br />\n<br />\nFriday\, August 9 at 2:00 pm<br />\n<br />\nBring out your thrifted\, out-of-current-fashion but still workable clothes\, vintage finds and swapped pieces\, and remake them into cool new outfits! Meet up with us at the library to work on the library&rsquo\;s sewing machines\, swap with other creators\, and start putting your Recycled Fashion threads together in preparation for the fashion show in October. The library will provide: fabric and thread\, sewing machines\, patterns and instructions\, and snacks. For teens and young adults.
LOCATION:George Culver Community Library
UID:e.1184.32884
SEQUENCE:3
DTSTAMP:20260419T163600Z
URL:http://members.saukprairie.com/events/details/recycled-fashion-show-workshop-32884
END:VEVENT

END:VCALENDAR
