BEGIN:VCALENDAR
VERSION:2.0
PRODID:-//ChamberMaster//Event Calendar 2.0//EN
METHOD:PUBLISH
X-PUBLISHED-TTL:P3D
REFRESH-INTERVAL:P3D
CALSCALE:GREGORIAN
BEGIN:VEVENT
DTSTART:20230802T140000Z
DTEND:20230802T190000Z
X-MICROSOFT-CDO-ALLDAYEVENT:FALSE
SUMMARY:Red Cross Blood Drive
DESCRIPTION:Sauk Prairie High School and the American Red Cross are hosting an upcoming blood drive. Please join our lifesaving mission and schedule an appointment today! Sign up here: https://www.redcrossblood.org/give.html/drive-results?order=DATE&range=10&zipSponsor=SPHS The need for blood is constant and only volunteer donors can fulfill that need for patients in our community. Nationwide\, someone needs a unit of blood every 2 to 3 seconds and most of us will need blood in our lifetime. All presenting donors will receive a Culver's give a pint get a pint coupon. Additionally\, all donors will be entered for a chance to win a Summer Fun Grill Package including a Wireless Bluetooth Portable Travel Speaker\, 60qt Wheeled Insulated Portable Cooler and Standup Propane Gas Grill! Approx. Value $325. The package is non-transferable or redeemable for cash.
X-ALT-DESC;FMTTYPE=text/html:Sauk Prairie High School and the American Red Cross are hosting an upcoming blood drive. Please join our lifesaving mission and schedule an appointment today! Sign up here: https://www.redcrossblood.org/give.html/drive-results?order=DATE&amp\;range=10&amp\;zipSponsor=SPHS The need for blood is constant and only volunteer donors can fulfill that need for patients in our community. Nationwide\, someone needs a unit of blood every 2 to 3 seconds and most of us will need blood in our lifetime. All presenting donors will receive a Culver&#39\;s give a pint get a pint coupon. Additionally\, all donors will be entered for a chance to win a Summer Fun Grill Package including a Wireless Bluetooth Portable Travel Speaker\, 60qt Wheeled Insulated Portable Cooler and Standup Propane Gas Grill! Approx. Value $325. The package is non-transferable or redeemable for cash.
LOCATION:River Hills Community Church. 1111 Sycamore Street\, Sauk City
UID:e.1184.30914
SEQUENCE:3
DTSTAMP:20260420T091712Z
URL:http://members.saukprairie.com/events/details/red-cross-blood-drive-08-02-2023-30914
END:VEVENT

END:VCALENDAR
