BEGIN:VCALENDAR
VERSION:2.0
PRODID:-//ChamberMaster//Event Calendar 2.0//EN
METHOD:PUBLISH
X-PUBLISHED-TTL:P3D
REFRESH-INTERVAL:P3D
CALSCALE:GREGORIAN
BEGIN:VEVENT
DTSTART:20200914T170000Z
DTEND:20200914T223000Z
X-MICROSOFT-CDO-ALLDAYEVENT:FALSE
SUMMARY:Red Cross Blood Drive
DESCRIPTION:Sauk Prairie Community Blood Drive\n\n\n\nSponsored by Friends of Sauk Prairie Healthcare\n\n\n\nAppointments preferred\; walk-ins welcome!\n\nFor an appointment call 1-800-RED CROSS (1-800-733-2767) or visit redcrossblood.org\n\n\n\nYou can save up to 15 minutes when you donate blood by using RapidPass@ Visit redcrossblood.org/RapidPass for more information.\n\n\n\nGive a Pint. Get a Pint. Get a coupon for a free pint of Culver's famous frozen custard!
X-ALT-DESC;FMTTYPE=text/html:<p>Sauk Prairie Community Blood Drive<br />\n<br />\nSponsored by Friends of Sauk Prairie Healthcare<br />\n<br />\nAppointments preferred\; walk-ins welcome!<br />\nFor an appointment call 1-800-RED CROSS (1-800-733-2767) or visit redcrossblood.org<br />\n<br />\nYou can save up to 15 minutes when you donate blood by using RapidPass@ Visit redcrossblood.org/RapidPass for more information.<br />\n<br />\nGive a Pint. Get a Pint. Get a coupon for a free pint of Culver&#39\;s famous frozen custard!<br />\n&nbsp\;</p>\n
LOCATION:River Hills Community Church 1111 Sycamore St.\, Sauk City
UID:e.1184.26093
SEQUENCE:3
DTSTAMP:20260422T165413Z
URL:http://members.saukprairie.com/events/details/red-cross-blood-drive-26093
END:VEVENT

END:VCALENDAR
