BEGIN:VCALENDAR
VERSION:2.0
PRODID:-//ChamberMaster//Event Calendar 2.0//EN
METHOD:PUBLISH
X-PUBLISHED-TTL:P3D
REFRESH-INTERVAL:P3D
CALSCALE:GREGORIAN
BEGIN:VEVENT
DTSTART:20180313T143000Z
DTEND:20180313T190000Z
X-MICROSOFT-CDO-ALLDAYEVENT:FALSE
SUMMARY:Red Cross Blood Drive at the Winery
DESCRIPTION:Give blood during our annual blood drive. Appointments are preferred\; walk-ins welcome.\n\nYou can save up to 15 minutes when you donate blood by using RapidPass! Visit redcrossblood.orgfor more information.\n\nAll donors will receive a complimentary tour pass that can be used in the future.\n\nVisit redcross.org or call 800 RED CROSS (800 733-2767) to sign up today!
X-ALT-DESC;FMTTYPE=text/html:<p style="box-sizing: border-box\; margin: 0px\; padding: 0px 0px 1em\; border: 0px\; outline: 0px\; background: 0px 0px rgb(248\, 241\, 220)\; font-size: 16px\; vertical-align: baseline\; text-size-adjust: 100%\; color: rgb(102\, 102\, 102)\; font-family: Lora\, Georgia\, &quot\;Times New Roman&quot\;\, serif\;">Give blood during our annual blood drive. Appointments are preferred\; walk-ins welcome.</p>\n\n<p style="box-sizing: border-box\; margin: 0px\; padding: 0px 0px 1em\; border: 0px\; outline: 0px\; background: 0px 0px rgb(248\, 241\, 220)\; font-size: 16px\; vertical-align: baseline\; text-size-adjust: 100%\; color: rgb(102\, 102\, 102)\; font-family: Lora\, Georgia\, &quot\;Times New Roman&quot\;\, serif\;">You can save up to 15 minutes when you donate blood by using RapidPass! Visit&nbsp\;<a href="https://www.redcrossblood.org/RapidPass" rel="noopener" style="box-sizing: border-box\; margin: 0px\; padding: 0px\; border: 0px\; outline: 0px\; background: 0px 0px\; vertical-align: baseline\; text-size-adjust: 100%\; color: rgb(117\, 38\, 52)\; text-decoration-line: none\;" target="_blank">redcrossblood.org</a>for more information.</p>\n\n<p style="box-sizing: border-box\; margin: 0px\; padding: 0px 0px 1em\; border: 0px\; outline: 0px\; background: 0px 0px rgb(248\, 241\, 220)\; font-size: 16px\; vertical-align: baseline\; text-size-adjust: 100%\; color: rgb(102\, 102\, 102)\; font-family: Lora\, Georgia\, &quot\;Times New Roman&quot\;\, serif\;">All donors will receive a complimentary tour pass that can be used in the future.</p>\n\n<p style="box-sizing: border-box\; margin: 0px\; padding: 0px\; border: 0px\; outline: 0px\; background: 0px 0px rgb(248\, 241\, 220)\; font-size: 16px\; vertical-align: baseline\; text-size-adjust: 100%\; color: rgb(102\, 102\, 102)\; font-family: Lora\, Georgia\, &quot\;Times New Roman&quot\;\, serif\;">Visit&nbsp\;<a href="http://www.redcross.org/" rel="noopener" style="box-sizing: border-box\; margin: 0px\; padding: 0px\; border: 0px\; outline: 0px\; background: 0px 0px\; vertical-align: baseline\; text-size-adjust: 100%\; color: rgb(117\, 38\, 52)\; text-decoration-line: none\;" target="_blank">redcross.org</a>&nbsp\;or call 800 RED CROSS (800 733-2767) to sign up today!</p>\n
LOCATION:Wollersheim Winery 7876 Hwy 188 Prairie du Sac\, Wisconsin 53578
UID:e.1184.14661
SEQUENCE:3
DTSTAMP:20260424T145551Z
URL:http://members.saukprairie.com/events/details/red-cross-blood-drive-at-the-winery-14661
END:VEVENT

END:VCALENDAR
