BEGIN:VCALENDAR
VERSION:2.0
PRODID:-//ChamberMaster//Event Calendar 2.0//EN
METHOD:PUBLISH
X-PUBLISHED-TTL:P3D
REFRESH-INTERVAL:P3D
CALSCALE:GREGORIAN
BEGIN:VEVENT
DTSTART:20160427T150000Z
DTEND:20160427T220000Z
X-MICROSOFT-CDO-ALLDAYEVENT:FALSE
SUMMARY:Red Fusion Release
DESCRIPTION:Over the last year\, we have been in collaboration with the University of Wisconsin-Madison Fermentation Sciences program on a new wine called Red Fusion. The development of the wine was an educational experience for students\, allowing them to explore their interests in viticulture\, enology and the fermentation process. The wine is made from Wisconsin grown grapes and was barrel aged in our cellars for six months. Join us at the winery on Wednesday\, April 27 for tastings of Red Fusion as this will be the only day to sample this wine. Red Fusion will also be available at Union South as well as other university venues. All proceeds from Red Fusion are going to further fund the fermentation sciences program.
X-ALT-DESC;FMTTYPE=text/html:<span style="background:#E9E7D8\;"><span style="color:black\;"><span style="font-family:georgia\,serif\;"><span style="font-size:10.5pt\;">Over the last year\, we have been in collaboration with the University of Wisconsin-Madison Fermentation Sciences program on a new wine called Red Fusion. The development of the wine was an educational experience for students\, allowing them to explore their interests in viticulture\, enology and the fermentation process. The wine is made from Wisconsin grown grapes and was barrel aged in our cellars for six months. Join us at the winery on Wednesday\, April 27 for tastings of Red Fusion as this will be the only day to sample this wine. Red Fusion will also be available at Union South as well as other university venues. All proceeds from Red Fusion are going to further fund the fermentation sciences program.</span></span></span></span>
LOCATION:Wollersheim Winery
UID:e.1184.8448
SEQUENCE:3
DTSTAMP:20260426T033052Z
URL:http://members.saukprairie.com/events/details/red-fusion-release-04-27-2016-8448
END:VEVENT

END:VCALENDAR
