BEGIN:VCALENDAR
VERSION:2.0
PRODID:-//ChamberMaster//Event Calendar 2.0//EN
METHOD:PUBLISH
X-PUBLISHED-TTL:P3D
REFRESH-INTERVAL:P3D
CALSCALE:GREGORIAN
BEGIN:VEVENT
DTSTART:20181118T010000Z
DTEND:20181118T030000Z
X-MICROSOFT-CDO-ALLDAYEVENT:FALSE
SUMMARY:Redefined: Co-Ed A Capella
DESCRIPTION:Redefined\n\nSaturday\, November 17th\, 2018 7pm\n\nat the River Arts Center (105-9th Street\, Prairie du Sac)\n\nTickets: $15/adults  $10/students\n\n                         -\n\nRedefined has continued to raise the standard for co-ed a cappella.  A 14 member group from UW-Madison\, they have quickly become the favorite of fans internationally and are notorious on the internet for their Nintendo Medley and Pompeii Music Video.  With repertoire ranging from "Rocket Man" by Elton John and "Love Yourself" by Justin Bieber to "Build Me Up Buttercup" by The Foundations\, this group has a little something for everyone!
X-ALT-DESC;FMTTYPE=text/html:<p><strong>Redefined</strong></p>\n\n<p><strong>Saturday\, November 17th\, 2018 7pm</strong></p>\n\n<p>at the River Arts Center (105-9th Street\, Prairie du Sac)</p>\n\n<p>Tickets: $15/adults &nbsp\;$10/students</p>\n\n<p>&mdash\;&mdash\;&mdash\;&mdash\;&mdash\;&mdash\;&mdash\;&mdash\;&mdash\;&mdash\;&mdash\;&mdash\;&mdash\;&mdash\;&mdash\;&mdash\;&mdash\;&mdash\;&mdash\;&mdash\;&mdash\;&mdash\;&mdash\;&mdash\;&mdash\;-</p>\n\n<p>Redefined has continued to raise the standard for co-ed a cappella.&nbsp\; A 14 member group from UW-Madison\, they have quickly become the favorite of fans internationally and are notorious on the internet for their Nintendo Medley and Pompeii Music Video.&nbsp\; With repertoire ranging from &ldquo\;Rocket Man&rdquo\; by Elton John and &ldquo\;Love Yourself&rdquo\; by Justin Bieber to &ldquo\;Build Me Up Buttercup&rdquo\; by The Foundations\, this group has a little something for everyone!</p>\n
LOCATION:River Arts Center (105-9th Street\, Prairie du Sac)
UID:e.1184.20453
SEQUENCE:3
DTSTAMP:20260424T033722Z
URL:http://members.saukprairie.com/events/details/redefined-co-ed-a-capella-20453
END:VEVENT

END:VCALENDAR
