BEGIN:VCALENDAR
VERSION:2.0
PRODID:-//ChamberMaster//Event Calendar 2.0//EN
METHOD:PUBLISH
X-PUBLISHED-TTL:P3D
REFRESH-INTERVAL:P3D
CALSCALE:GREGORIAN
BEGIN:VEVENT
DTSTART:20181023T230000Z
DTEND:20181024T010000Z
X-MICROSOFT-CDO-ALLDAYEVENT:FALSE
SUMMARY:Reduce Medical Expenses Using Over the Counter Drugs
DESCRIPTION:Proper use of over the counter medications will reduce your prescription expenses.  This program will review several families of OTC products and their active ingredients.  Presented by William Reay\, Pharm. D. MHA
X-ALT-DESC;FMTTYPE=text/html:Proper use of over the counter medications will reduce your prescription expenses.&nbsp\; This program will review several families of OTC products and their active ingredients.&nbsp\; Presented by William Reay\, Pharm. D. MHA
LOCATION:Community Center\, 730 Monroe St.\, Sauk City\, WI 53583
UID:e.1184.20942
SEQUENCE:3
DTSTAMP:20260424T034204Z
URL:http://members.saukprairie.com/events/details/reduce-medical-expenses-using-over-the-counter-drugs-10-23-2018-20942
END:VEVENT

END:VCALENDAR
