BEGIN:VCALENDAR
VERSION:2.0
PRODID:-//ChamberMaster//Event Calendar 2.0//EN
METHOD:PUBLISH
X-PUBLISHED-TTL:P3D
REFRESH-INTERVAL:P3D
CALSCALE:GREGORIAN
BEGIN:VEVENT
DTSTART:20210116T190000Z
DTEND:20210116T200000Z
X-MICROSOFT-CDO-ALLDAYEVENT:FALSE
SUMMARY:Rehabilitated Bald Eagle Release & Live Q&A
DESCRIPTION:Marge Gibson\, of Raptor Education Group (REGI)\, a nationally renowned eagle rehabilitator and educator will release a rehabilitated bald eagle back into the wild (pre-recorded). She will tell the story of that particular raptor and share information about the work she does at REGI. There will be opportunities for the virtual attendees to ask questions about Bald Eagles\, wild animal rehabilitation\, the work of REGI\, raptors\, and other related topics and Marge Gibson will offer her responses. The event will be live-streamed via the Ferry Bluff Eagle Council YouTube Channel https://www.youtube.com/channel/UCTBZ99Ku6DYNx1FV-1CIxxA
X-ALT-DESC;FMTTYPE=text/html:<span style="color: rgb(5\, 5\, 5)\; font-family: &quot\;Segoe UI Historic&quot\;\, &quot\;Segoe UI&quot\;\, Helvetica\, Arial\, sans-serif\; font-size: 15px\;">Marge Gibson\, of Raptor Education Group (REGI)\, a nationally renowned eagle rehabilitator and educator will release a rehabilitated bald eagle back into the wild (pre-recorded). She will tell the story of that particular raptor and share information about the work she does at REGI. There will be opportunities for the virtual attendees to ask questions about Bald Eagles\, wild animal rehabilitation\, the work of REGI\, raptors\, and other related topics and Marge Gibson will offer her responses. The event will be live-streamed via the Ferry Bluff Eagle Council YouTube Channel&nbsp\;</span><a class="oajrlxb2 g5ia77u1 qu0x051f esr5mh6w e9989ue4 r7d6kgcz rq0escxv nhd2j8a9 nc684nl6 p7hjln8o kvgmc6g5 cxmmr5t8 oygrvhab hcukyx3x jb3vyjys rz4wbd8a qt6c0cv9 a8nywdso i1ao9s8h esuyzwwr f1sip0of lzcic4wl py34i1dx gpro0wi8" href="https://www.youtube.com/channel/UCTBZ99Ku6DYNx1FV-1CIxxA?fbclid=IwAR1_Jx74bUHldGZPGOfi9I40IYmXzFssboueP1vdv08li7AmvTyh8swTsHc" rel="nofollow noopener" role="link" style="color: var(--blue-link)\; cursor: pointer\; text-decoration-line: none\; outline: none\; list-style: none\; border-width: 0px\; border-style: initial\; border-color: initial\; padding: 0px\; margin: 0px\; touch-action: manipulation\; display: inline\; -webkit-tap-highlight-color: transparent\; box-sizing: border-box\; font-family: &quot\;Segoe UI Historic&quot\;\, &quot\;Segoe UI&quot\;\, Helvetica\, Arial\, sans-serif\; font-size: 15px\;" tabindex="0" target="_blank">https://www.youtube.com/channel/UCTBZ99Ku6DYNx1FV-1CIxxA</a><span style="color: rgb(5\, 5\, 5)\; font-family: &quot\;Segoe UI Historic&quot\;\, &quot\;Segoe UI&quot\;\, Helvetica\, Arial\, sans-serif\; font-size: 15px\;">&nbsp\;</span>
LOCATION:
UID:e.1184.26146
SEQUENCE:3
DTSTAMP:20260422T104321Z
URL:http://members.saukprairie.com/events/details/rehabilitated-bald-eagle-release-live-q-a-26146
END:VEVENT

END:VCALENDAR
