BEGIN:VCALENDAR
VERSION:2.0
PRODID:-//ChamberMaster//Event Calendar 2.0//EN
METHOD:PUBLISH
X-PUBLISHED-TTL:P3D
REFRESH-INTERVAL:P3D
CALSCALE:GREGORIAN
BEGIN:VEVENT
DTSTART:20160805T230000Z
DTEND:20160806T120000Z
X-MICROSOFT-CDO-ALLDAYEVENT:FALSE
SUMMARY:Relay For Life of Sauk Prairie
DESCRIPTION:The American Cancer Society Relay For Life movement is the world's largest and most impactful fundraising event to end cancer. It unites communities across the globe to celebrate people who have battled cancer\, remember loved ones lost\, and take action to finish the fight once and for all. With the support of thousands of volunteers like you\, the American Cancer Society is helping save more than 500 lives a day. Please join us and take action against a disease that has taken too much!
X-ALT-DESC;FMTTYPE=text/html:<span style="color: rgb(86\, 84\, 84)\; font-family: Arial\, sans-serif\; font-size: 12px\; line-height: 18px\;">The American Cancer Society Relay For Life movement is the world&#39\;s largest and most impactful fundraising event to end cancer. It unites communities across the globe to celebrate people who have battled cancer\, remember loved ones lost\, and take action to finish the fight once and for all. With the support of thousands of volunteers like you\, </span><span style="color: rgb(86\, 84\, 84)\; font-family: Arial\, sans-serif\; font-size: 12px\; line-height: 18px\;">the&nbsp\;</span><a href="http://www.cancer.org/" style="outline: none\; color: rgb(44\, 94\, 164)\; font-family: Arial\, Helvetica\, sans-serif\; text-decoration: none\; font-weight: bold\; font-size: 12px\; line-height: 18px\;" target="_blank">American</a><a href="http://www.cancer.org/" style="outline: none\; color: rgb(44\, 94\, 164)\; font-family: Arial\, Helvetica\, sans-serif\; text-decoration: none\; font-weight: bold\; font-size: 12px\; line-height: 18px\;" target="_blank"> Cancer Society</a><span style="color: rgb(86\, 84\, 84)\; font-family: Arial\, sans-serif\; font-size: 12px\; line-height: 18px\;">&nbsp\;is helping save more than 500 lives a day. Please join us and take action against a disease that has taken too much!</span>
LOCATION:Sauk Prairie High School track
UID:e.1184.8548
SEQUENCE:3
DTSTAMP:20260425T224720Z
URL:http://members.saukprairie.com/events/details/relay-for-life-of-sauk-prairie-08-05-2016-8548
END:VEVENT

END:VCALENDAR
