BEGIN:VCALENDAR
VERSION:2.0
PRODID:-//ChamberMaster//Event Calendar 2.0//EN
METHOD:PUBLISH
X-PUBLISHED-TTL:P3D
REFRESH-INTERVAL:P3D
CALSCALE:GREGORIAN
BEGIN:VEVENT
DTSTART:20170804T220000Z
DTEND:20170805T040000Z
X-MICROSOFT-CDO-ALLDAYEVENT:FALSE
SUMMARY:Relay For Life of Sauk Prairie
DESCRIPTION:We'll kick off the event by celebrating everyone who's been affected by cancer. Whether someone's been diagnosed for 10 days or been cancer-free for 10 years\, they gather together for the crowd to cheer them on.\n\n \n\n \n\nSurvivors Lap (To follow opening ceremony):\n\nSurvivors define courage and inspire those facing a cancer diagnosis. Their strength is honored with each step they take around the first lap. If you know anyone who's overcome cancer\, invite them to join.\n\n \n\nTHANK YOU TO OUR HONORARY SURVIVOR\, KERI OLSON\n\n\n\n http://www.keriolson.com/\n\nCaregivers Lap (Will join-in after survivors):\n\n \n\nCaring for others is such a selfless act\, which is why we honor caregivers with a lap. They often walk with the person they've supported.\n\n \n\nLuminaria Ceremony\n\n\n\n \n\nTime: 10:00 P.M.\n\nEach Luminaria bag represents a loved one lost to cancer\, brings support to those affected by it\, and honors survivors. This powerful moment gives people the opportunity to grieve but also offers hope and comfort.\n\n \n\n \n\nClosing Ceremony\n\n\n\n \n\nTime: 10:30 P.M. (Following Luminaria) \n\nWe celebrate all that we've accomplished together and remember those we've lost. Together\, we commit to take action and help end the pain and suffering of cancer.
X-ALT-DESC;FMTTYPE=text/html:<span style="letter-spacing:.3pt\;"><span style="color:#1E1E23\;"><span style="font-family:helvetica\,sans-serif\;"><span style="font-size:12.0pt\;">We&#39\;ll kick off the event by celebrating everyone who&#39\;s been affected by cancer. Whether someone&#39\;s been diagnosed for 10 days or been cancer-free for 10 years\, they gather together for the crowd to cheer them on.</span></span></span></span><br />\n&nbsp\;<br />\n&nbsp\;<br />\n<span style="color:#555555\;"><span style="font-family:helvetica\,sans-serif\;"><span style="font-size:22.5pt\;">Survivors Lap (To follow opening ceremony):</span></span></span><br />\n<span style="letter-spacing:.3pt\;"><span style="color:#1E1E23\;"><span style="font-family:helvetica\,sans-serif\;"><span style="font-size:12.0pt\;">Survivors define courage and inspire those facing a cancer diagnosis. Their strength is honored with each step they take around the first lap. If you know anyone who&#39\;s overcome cancer\, invite them to join.</span></span></span></span><br />\n&nbsp\;<br />\n<span style="letter-spacing:.3pt\;"><span style="color:#1E1E23\;"><span style="font-family:times new roman\,serif\;"><span style="font-size:14.5pt\;">THANK YOU TO OUR HONORARY SURVIVOR\, KERI OLSON</span></span></span></span><br />\n<br />\n<span style="letter-spacing:.3pt\;"><span style="color:#1E1E23\;"><span style="font-family:helvetica\,sans-serif\;"><span style="font-size:14.5pt\;"><a href="http://www.keriolson.com/"><span style="color:#702BB0\;">&nbsp\;http://www.keriolson.com/</span></a></span></span></span></span><br />\n<span style="color:#555555\;"><span style="font-family:helvetica\,sans-serif\;"><span style="font-size:22.5pt\;">Caregivers Lap (Will join-in after survivors):</span></span></span><br />\n&nbsp\;<br />\n<span style="letter-spacing:.3pt\;"><span style="color:#1E1E23\;"><span style="font-family:helvetica\,sans-serif\;"><span style="font-size:12.0pt\;">Caring for others is such a selfless act\, which is why we honor caregivers with a lap. They often walk with the person they&#39\;ve supported.</span></span></span></span><br />\n&nbsp\;<br />\n<span style="color:#555555\;"><span style="font-family:helvetica\,sans-serif\;"><span style="font-size:22.5pt\;">Luminaria Ceremony</span></span></span><br />\n<br />\n&nbsp\;<br />\n<strong><span style="color:#1E1E23\;"><span style="font-family:helvetica\,sans-serif\;"><span style="font-size:13.5pt\;">Time: 10:00 P.M.</span></span></span></strong><br />\n<span style="letter-spacing:.3pt\;"><span style="color:#1E1E23\;"><span style="font-family:helvetica\,sans-serif\;"><span style="font-size:12.0pt\;">Each Luminaria bag represents a loved one lost to cancer\, brings support to those affected by it\, and honors survivors. This powerful moment gives people the opportunity to grieve but also offers hope and comfort.</span></span></span></span><br />\n&nbsp\;<br />\n&nbsp\;<br />\n<span style="color:#555555\;"><span style="font-family:helvetica\,sans-serif\;"><span style="font-size:22.5pt\;">Closing Ceremony</span></span></span><br />\n<br />\n&nbsp\;<br />\n<strong><span style="color:#1E1E23\;"><span style="font-family:helvetica\,sans-serif\;"><span style="font-size:13.5pt\;">Time: 10:30 P.M. (Following Luminaria)&nbsp\;</span></span></span></strong><br />\n<span style="letter-spacing:.3pt\;"><span style="color:#1E1E23\;"><span style="font-family:helvetica\,sans-serif\;"><span style="font-size:12.0pt\;">We celebrate all that we&#39\;ve accomplished together and remember those we&#39\;ve lost. Together\, we commit to take action and help end the pain and suffering of cancer.</span></span></span></span>
LOCATION:August Derleth Park
UID:e.1184.11787
SEQUENCE:3
DTSTAMP:20260425T033331Z
URL:http://members.saukprairie.com/events/details/relay-for-life-of-sauk-prairie-11787
END:VEVENT

END:VCALENDAR
