BEGIN:VCALENDAR
VERSION:2.0
PRODID:-//ChamberMaster//Event Calendar 2.0//EN
METHOD:PUBLISH
X-PUBLISHED-TTL:P3D
REFRESH-INTERVAL:P3D
CALSCALE:GREGORIAN
BEGIN:VEVENT
DTSTART:20190802T220000Z
DTEND:20190803T040000Z
X-MICROSOFT-CDO-ALLDAYEVENT:FALSE
SUMMARY:Relay For Life of Sauk Prairie
DESCRIPTION:Opening Ceremony\n\nTime to get started. We kick off the event by honoring everyone who's been affected by cancer and everyone who has contributed to the success of this year's Relay season.\n\nSurvivor/Caregiver Walk\n\nSurvivors and Caregivers are the heart and soul of Relay For Life events. We honor their strength and courage with every step they take. It doesn't matter if you were diagnosed 10 days ago or 10 years ago\, you can walk while everyone gathers together to cheer you on.\n\nLuminaria Ceremony\n\nDuring this ceremony we represent everyone touched by cancer with a Luminaria. Each light represents a life a life taken by cancer\, a survivor of cancer\, or a support for a person still fighting the disease. It's a powerful demonstration that gives people the opportunity to grieve but also offers comfort and hope.\n\n \n\nClosing Ceremony\n\nOur closing ceremony is the time to commit to take action and help lead the fight for a world free from cancer. It's a time to celebrate what we've accomplished together and a time to unify for the work that needs to be done moving forward.
X-ALT-DESC;FMTTYPE=text/html:<h3 style="box-sizing: border-box\; font-family: &quot\;Source Sans Pro&quot\;\, HelveticaNeue-Light\, &quot\;Helvetica Neue Light&quot\;\, &quot\;Helvetica Neue&quot\;\, Helvetica\, Arial\, &quot\;Lucida Grande&quot\;\, sans-serif\; line-height: 1.1\; margin-top: 20px\; margin-bottom: 10px\; font-size: 24px\; -webkit-font-smoothing: antialiased\; text-align: center\; color: rgb(30\, 30\, 35)\; letter-spacing: 0.45px\;"><strong style="box-sizing: border-box\;">Opening Ceremony</strong></h3>\n\n<p style="box-sizing: border-box\; font-family: &quot\;Source Sans Pro&quot\;\; font-size: 18px\; color: rgb(30\, 30\, 35)\; margin: 0px 0px 10px\; -webkit-font-smoothing: antialiased\; letter-spacing: 0.45px\; line-height: 2.7rem\;">Time to get started. We kick off the event by honoring everyone who&#39\;s been affected by cancer and everyone who has contributed to the success of this year&#39\;s Relay season.</p>\n\n<h3 style="box-sizing: border-box\; font-family: &quot\;Source Sans Pro&quot\;\, HelveticaNeue-Light\, &quot\;Helvetica Neue Light&quot\;\, &quot\;Helvetica Neue&quot\;\, Helvetica\, Arial\, &quot\;Lucida Grande&quot\;\, sans-serif\; line-height: 1.1\; margin-top: 20px\; margin-bottom: 10px\; font-size: 24px\; -webkit-font-smoothing: antialiased\; text-align: center\; color: rgb(30\, 30\, 35)\; letter-spacing: 0.45px\;"><strong style="box-sizing: border-box\;">Survivor/Caregiver Walk</strong></h3>\n\n<p style="box-sizing: border-box\; font-family: &quot\;Source Sans Pro&quot\;\; font-size: 18px\; color: rgb(30\, 30\, 35)\; margin: 0px 0px 10px\; -webkit-font-smoothing: antialiased\; letter-spacing: 0.45px\; line-height: 2.7rem\;">Survivors and Caregivers are the heart and soul of Relay For Life events. We honor their strength and courage with every step they take. It doesn&#39\;t matter if you were diagnosed 10 days ago or 10 years ago\, you can walk while everyone gathers together to cheer you on.</p>\n\n<h3 style="box-sizing: border-box\; font-family: &quot\;Source Sans Pro&quot\;\, HelveticaNeue-Light\, &quot\;Helvetica Neue Light&quot\;\, &quot\;Helvetica Neue&quot\;\, Helvetica\, Arial\, &quot\;Lucida Grande&quot\;\, sans-serif\; line-height: 1.1\; margin-top: 20px\; margin-bottom: 10px\; font-size: 24px\; -webkit-font-smoothing: antialiased\; text-align: center\; color: rgb(30\, 30\, 35)\; letter-spacing: 0.45px\;"><strong style="box-sizing: border-box\;">Luminaria Ceremony</strong></h3>\n\n<p style="box-sizing: border-box\; font-family: &quot\;Source Sans Pro&quot\;\; font-size: 18px\; color: rgb(30\, 30\, 35)\; margin: 0px 0px 10px\; -webkit-font-smoothing: antialiased\; letter-spacing: 0.45px\; line-height: 2.7rem\;">During this ceremony we represent everyone touched by cancer with a Luminaria. Each light represents a life&mdash\;a life taken by cancer\, a survivor of cancer\, or a support for a person still fighting the disease. It&#39\;s a powerful demonstration that gives people the opportunity to grieve but also offers comfort and hope.<br />\n&nbsp\;</p>\n\n<h3 style="box-sizing: border-box\; font-family: &quot\;Source Sans Pro&quot\;\, HelveticaNeue-Light\, &quot\;Helvetica Neue Light&quot\;\, &quot\;Helvetica Neue&quot\;\, Helvetica\, Arial\, &quot\;Lucida Grande&quot\;\, sans-serif\; line-height: 1.1\; margin-top: 20px\; margin-bottom: 10px\; font-size: 24px\; -webkit-font-smoothing: antialiased\; text-align: center\; color: rgb(30\, 30\, 35)\; letter-spacing: 0.45px\;"><strong style="box-sizing: border-box\;">Closing Ceremony</strong></h3>\n\n<p style="box-sizing: border-box\; font-family: &quot\;Source Sans Pro&quot\;\; font-size: 18px\; color: rgb(30\, 30\, 35)\; margin: 0px 0px 10px\; -webkit-font-smoothing: antialiased\; letter-spacing: 0.45px\; line-height: 2.7rem\;">Our closing ceremony is the time to commit to take action and help lead the fight for a world free from cancer. It&#39\;s a time to celebrate what we&#39\;ve accomplished together and a time to unify for the work that needs to be done moving forward.</p>\n
LOCATION:Meyer Oak Grove Park
UID:e.1184.22590
SEQUENCE:3
DTSTAMP:20260423T124831Z
URL:http://members.saukprairie.com/events/details/relay-for-life-of-sauk-prairie-22590
END:VEVENT

END:VCALENDAR
